Workbook

Sheet (별첨1) 일반현황
A1: <붙임 1>
A2: 2025년 공개대상 112개 사업자 일반현황
A4: 회 사 명 | C4: 대표자 | D4: 등록번호 | E4: 소재지 | F4: 피해보상보험가입 | G4: 비고
A5: □ 영업 업체(2025. 12. 31. 기준 등록업체 중 2025년도 판매실적이 있는 업체)
A6: 1 | B6: 한국암웨이㈜ | C6: 신은자, 존패트릭파커 | D6: 서울 제1호 | E6: 서울시 강남구 영동대로 517, 27, 28, 29층 (삼성동,아셈타워) | F6: 직접판매공제조합
A7: 2 | B7: 애터미㈜ | C7: 박한길, 윤용순 | D7: 충남 - 7호 | E7: 충청남도 공주시 백제문화로 2148-21, | F7: 한국특수판매공제조합
A8: 3 | B8: 피엠인터내셔널코리아(유) | C8: 티모브라이트하우프트 | D8: 서울 제882호 | E8: 서울특별시 영등포구 의사당대로 8 602 | F8: 한국특수판매공제조합
A9: 4 | B9: 유니시티코리아(유) | C9: 록키스마트 | D9: 서울 제535호 | E9: 서울시 강남구 테헤란로 328, 3층 (역삼동, 동우빌딩) | F9: 직접판매공제조합
A10: 5 | B10: 뉴스킨코리아㈜ | C10: 조지훈 | D10: 서울 제58호 | E10: 서울시 강남구 삼성동 봉은사로 86길 6 (삼성동) | F10: 직접판매공제조합
A11: 6 | B11: ㈜리만코리아 | C11: 황영수, 강영재 | D11: 대구 2024-01호 | E11: 대구시 동구 동대구로 503 (신천동), 2~3층 | F11: 직접판매공제조합 | G11: 24.11.17. 다단계판매업 등록, 그 이전에는 후원방문판매업자로 등록
A12: 7 | B12: 한국허벌라이프㈜ | C12: 정승욱 | D12: 서울 제90호 | E12: 서울시 강남구 논현로 706 (논현동, 아이캐슬빌딩) | F12: 직접판매공제조합
A13: 8 | B13: 유사나헬스사이언스코리아(유) | C13: 더글라스 헤킹 | D13: 서울 제527호 | E13: 서울시 강남구 테헤란로 203, 4층, 5층 (역삼동, 서울인터내셔널타워) | F13: 직접판매공제조합
A14: 9 | B14: ㈜비아블 | C14: 이수범 | D14: 경기 제2018-2호 | E14: 경기 부천시 옥산로220번길 26, 5층 (도당동, 미코빌딩) | F14: 직접판매공제조합
A15: 10 | B15: ㈜카리스 | C15: 김현수 | D15: 경기 2013-3 | E15: 경기도 성남시 분당구 황새울로335번길 5, 7층 | F15: 한국특수판매공제조합
A16: 11 | B16: 시너지월드와이드코리아㈜ | C16: 데니얼 노먼 | D16: 서울 제153호 | E16: 서울 강동구 고덕비즈밸리로2가길 20 (고덕동) 4~8층 (고덕동, 도드람타워) | F16: 직접판매공제조합
A17: 12 | B17: 유한책임회사매나테크코리아 | C17: 노재홍 | D17: 서울 제563호 | E17: 서울시 강남구 강남대로 358, 9층 (역삼동, 강남358타워) | F17: 직접판매공제조합
A18: 13 | B18: ㈜앤알커뮤니케이션 | C18: 성호종 | D18: 경기 제2016-2호 | E18: 경기도 수원시 영통구 센트럴타운로 114-8, 3층 (이의동, 농우바이오빌딩) | F18: 직접판매공제조합
A19: 14 | B19: 도테라코리아(유) | C19: 장재훈 | D19: 서울-제786호 | E19: 서울특별시 서초구 남부순환로 2561, 지하 1층, 지상 1층, 지상 2층(서초동) | F19: 한국특수판매공제조합
A20: 15 | B20: 라라코리아인터내셔날㈜ | C20: 김성엽 | D20: 경기 제2023-1호 | E20: 경기도 성남시 분당구 성남대로916번길 11, 제7층 701호(야탑동, 글라스타워) | F20: 한국특수판매공제조합
A21: 16 | B21: ㈜하이리빙 | C21: 최영두 | D21: 서울 제88호 | E21: 서울 중구 을지로 158, 4층 (을지로4가, 삼풍빌딩) | F21: 직접판매공제조합
A22: 17 | B22: ㈜엔잭타 | C22: 러셀 에드워드 홀 | D22: 서울-제686호 | E22: 서울특별시 강남구 역삼로 25길 23, 5층(역삼동, 대일테크빌딩) | F22: 한국특수판매공제조합
A23: 18 | B23: ㈜굿모닝월드 | C23: 김선명, 이천용 | D23: 서울 제834호 | E23: 서울특별시 강남구 봉은사로63길 7 2층 | F23: 한국특수판매공제조합
... A110: 105 | B110: ㈜스타비즈파트너스 | C110: 이형신 | D110: 충남-12호 | E110: 충청남도 천안시 서북구 2공단8길 51, B동 1층 102호 (업성동, 라파스천안공장) | F110: 한국특수판매공제조합
A112: □ 폐업 등 업체(2026.4.30.기준)
A113: 1 | B113: 리영글로벌㈜ | C113: 조인창 | D113: 서울 제940호 | E113: 서울시 강남구 언주로 428, 10층(역삼동) | F113: 한국특수판매공제조합 | G113: 2025-09-18 폐업
A114: 2 | B114: ㈜지나이스루루 | C114: 백윤사 | D114: 대전 제41호 | E114: 대전시 서구 둔산대로 117번길 95 리더스타운D동 601호 | F114: 한국특수판매공제조합 | G114: 2025-07-25 폐업
A115: 3 | B115: 키아리코리아(주) | C115: 로버트 레이나 | D115: 부산2023-1호 | E115: 부산광역시 동구 중앙대로 216 6층(초량동) | F115: 한국특수판매공제조합 | G115: 2025-07-07 폐업
A116: 4 | B116: ㈜클로버유 | C116: 문광수 | D116: 경기 제2025-4호 | E116: 경기도 안양시 동안구 경수대로 454, 에이동 3층 301호(호계동, 유환프라자) | F116: 한국특수판매공제조합 | G116: 2025-12-31 폐업
A117: 5 | B117: ㈜씨에이치다이렉트 | C117: 가경진 | D117: 서울 제896호 | E117: 서울시 용산구 청파로 383 1층 | F117: 한국특수판매공제조합 | G117: 2025-11-07 폐업
A118: 6 | B118: ㈜에스디플랫폼 | C118: 박명환 | D118: 서울-제860호 | E118: 서울시 강남구 봉은사로 465, 7층(삼성동, 아이타워) | F118: 한국특수판매공제조합 | G118: 2026-03-27 폐업
A119: 7 | B119: ㈜골드트리글로벌 | C119: 정지용 | D119: 대구 2026-1호 | E119: 대구 달서구 월곡로 260, 703, 704호(상인동,상인프라자) | F119: 한국특수판매공제조합 | G119: 2026-04-16 폐업
A121: □ 2025년도 신규 영업 업체
A122: 1 | B122: ㈜댄다코리아 | C122: 박승태 | D122: 경기-제2025-3호 | E122: 경기도 성남시 수정구 위례광장로 19, 410호 | F122: 한국특수판매공제조합 | G122: 2025-03-20 등록
A123: 2 | B123: ㈜더클라세움 | C123: 차진희 | D123: 부산 제2025-2호 | E123: 부산광역시 부산진구 중앙대로635번길 25 203호 | F123: 한국특수판매공제조합 | G123: 2025-03-21 등록
A124: 3 | B124: ㈜팍스리테일 | C124: 박은석 | D124: 대구2025-01호 | E124: 대구광역시 나묵 대명로 124, 7층 | F124: 국민은행 | G124: 2025-03-18 등록
A125: 4 | B125: ㈜엘바이오랩스 | C125: 김선호 | D125: 서울 제952호 | E125: 서울특별시 송파구 위례성대로 18 금복빌딩 1301호 | F125: 한국특수판매공제조합 | G125: 2025-06-26 등록
A126: 5 | B126: 뉴시아코리아㈜ | C126: 이옥진 | D126: 부산 2025-3호 | E126: 부산광역시 사상구 학감대로 252, 7층 | F126: 한국특수판매공제조합 | G126: 2025-07-28 등록
A127: 6 | B127: ㈜카나비 | C127: 엄시진 | D127: 서울 제954호 | E127: 서울특별시 서초구 강남대로 163, 2층 | F127: 한국특수판매공제조합 | G127: 2025-11-06 등록
A128: 7 | B128: ㈜바이오베스타 | C128: 이앤드류경인 | D128: 서울 제953호 | E128: 서울특별시 강동구 올림픽로 682-8, B1F | F128: 한국특수판매공제조합 | G128: 2025-08-28 등록

Sheet (별첨2) 총 매출액 현황
A1: <붙임 2>
A2: 2025년 총 매출액 현황
F3: (단위: 원)
A4: 회 사 명 | C4: 2025년 | D4: 2024년 | E4: 증 감 | F4: 비 고
A5: 1 | B5: 한국암웨이㈜ | C5: 1101793855556 | D5: 1149180449991 | E5: =C5-D5 -> -47386594435
A6: 2 | B6: 애터미㈜ | C6: 797125781627 | D6: 856973505760 | E6: =C6-D6 -> -59847724133
A7: 3 | B7: 피엠인터내셔널코리아(유) | C7: 515784347526 | D7: 528020262515 | E7: =C7-D7 -> -12235914989
A8: 4 | B8: 유니시티코리아(유) | C8: 208138500520 | D8: 227959010539 | E8: =C8-D8 -> -19820510019
A9: 5 | B9: 뉴스킨코리아㈜ | C9: 203282937302 | D9: 249284210687 | E9: =C9-D9 -> -46001273385
A10: 6 | B10: ㈜리만코리아 | C10: 198281259087 | D10: 0 | E10: =C10-D10 -> 198281259087 | F10: 24.11.17. 다단계판매업 등록하였으며, 그 이전에는 후원방문판매업자로 등록
A11: 7 | B11: 한국허벌라이프㈜ | C11: 171555178849 | D11: 181797000124 | E11: =C11-D11 -> -10241821275
A12: 8 | B12: 유사나헬스사이언스코리아(유) | C12: 107169223096 | D12: 116728332178 | E12: =C12-D12 -> -9559109082
A13: 9 | B13: ㈜비아블 | C13: 91297719916 | D13: 77897673914 | E13: =C13-D13 -> 13400046002
A14: 10 | B14: ㈜카리스 | C14: 86827540195 | D14: 69761261700 | E14: =C14-D14 -> 17066278495
A15: 11 | B15: 시너지월드와이드코리아㈜ | C15: 80551616510 | D15: 77898560363 | E15: =C15-D15 -> 2653056147
A16: 12 | B16: (유)매나테크코리아 | C16: 68230550750 | D16: 71441585161 | E16: =C16-D16 -> -3211034411
A17: 13 | B17: ㈜앤알커뮤니케이션 | C17: 65371330659 | D17: 57219489610 | E17: =C17-D17 -> 8151841049
A18: 14 | B18: 도테라코리아(유) | C18: 54545483155 | D18: 56369531897 | E18: =C18-D18 -> -1824048742
A19: 15 | B19: 라라코리아인터내셔날㈜ | C19: 42251241403 | D19: 43401569284 | E19: =C19-D19 -> -1150327881
A20: 16 | B20: ㈜하이리빙 | C20: 39220435364 | D20: 37383795470 | E20: =C20-D20 -> 1836639894
A21: 17 | B21: ㈜엔잭타 | C21: 35839449140 | D21: 36273881500 | E21: =C21-D21 -> -434432360
A22: 18 | B22: ㈜굿모닝월드 | C22: 30615010460 | D22: 30241934260 | E22: =C22-D22 -> 373076200
... A24: 20 | B24: (유)포라이프리서치코리아 | C24: 28319562737 | D24: 30363800718 | E24: =C24-D24 -> -2044237981
A25: 21 | B25: ㈜해밀리헬스 | C25: 27721774050 | D25: 27296227700 | E25: =C25-D25 -> 425546350 | F25: 주식회사 이롬플러스 → 주식회사 이롬헬스케어(2025.1.15.) → 주식회사 라이프밀(2025.12.23.) → 주식회사 해밀리헬스(2026.2.9.)
A26: 22 | B26: 니오라코리아(유) | C26: 27075822974 | D26: 24706224109 | E26: =C26-D26 -> 2369598865 | F26: 에이씨앤코리아 유한회사→니오라코리아 유한회사(2025.1.2.)
A27: 23 | B27: ㈜인큐텐 | C27: 23874273916 | D27: 36246192467 | E27: =C27-D27 -> -12371918551
A28: 24 | B28: 앨트웰㈜ | C28: 23130336882 | D28: 26361770943 | E28: =C28-D28 -> -3231434061
A29: 25 | B29: ㈜프리즘인터내셔널 | C29: 22276859400 | D29: 25390917600 | E29: =C29-D29 -> -3114058200
A30: 26 | B30: 멜라루카인터내셔날코리아㈜ | C30: 20172836135 | D30: 23817749420 | E30: =C30-D30 -> -3644913285
A31: 27 | B31: 썬라이더다이렉트코리아(유) | C31: 18448435896 | D31: 19287789184 | E31: =C31-D31 -> -839353288
A32: 28 | B32: ㈜투에버 | C32: 17760692480 | D32: 16119113650 | E32: =C32-D32 -> 1641578830
A33: 29 | B33: ㈜교원헬스케어 | C33: 17514992649 | D33: 19115160060 | E33: =C33-D33 -> -1600167411 | F33: (주)교원더오름 → (주)교원헬스케어(2024.4.21.)
A34: 30 | B34: 힐리월드코리아㈜ | C34: 17478156200 | D34: 13692247600 | E34: =C34-D34 -> 3785908600
A35: 31 | B35: 뉴유라이프코리아(유) | C35: 16763369000 | D35: 16518058000 | E35: =C35-D35 -> 245311000
A36: 32 | B36: ㈜지에스엘 | C36: 15489939653 | D36: 16901775042 | E36: =C36-D36 -> -1411835389
A37: 33 | B37: ㈜댄다코리아 | C37: 15417384510 | D37: 0 | E37: =C37-D37 -> 15417384510 | F37: 신규업체(2025.3.20.)
A38: 34 | B38: 경성제약㈜ | C38: 14414695000 | D38: 16473102229 | E38: =C38-D38 -> -2058407229
A39: 35 | B39: 토탈스위스코리아㈜ | C39: 14318760687 | D39: 14696428750 | E39: =C39-D39 -> -377668063
A40: 36 | B40: ㈜더클라세움 | C40: 13628639100 | D40: 0 | E40: =C40-D40 -> 13628639100 | F40: 신규업체(2025.3.21.)
A41: 37 | B41: 라이프웨이브코리아㈜ | C41: 13439218447 | D41: 35471701732 | E41: =C41-D41 -> -22032483285
...

Sheet (별첨3) 후원수당 지급총액 현황
A1: <붙임 3>
A2: 2025년 후원수당 지급총액 현황
G3: (단위 : 원)
A4: 회 사 명 | C4: 2025년 | D4: 2024년 | E4: 증 감 | F4: 매출액 대비 | G4: 비 고
A5: 1 | B5: 한국암웨이㈜ | C5: 365296191632 | D5: 376047198295 | E5: =C5-D5 -> -10751006663 | F5: =C5/'(별첨2) 총 매출액 현황'!C5 -> 0.33154677
A6: 2 | B6: 애터미㈜ | C6: 276474050900 | D6: 299093837853 | E6: =C6-D6 -> -22619786953 | F6: =C6/'(별첨2) 총 매출액 현황'!C6 -> 0.34683868
A7: 3 | B7: 피엠인터내셔널코리아(유) | C7: 171389374232 | D7: 178111060003 | E7: =C7-D7 -> -6721685771 | F7: =C7/'(별첨2) 총 매출액 현황'!C7 -> 0.33228882
A8: 4 | B8: 유니시티코리아(유) | C8: 67394102995 | D8: 75274620864 | E8: =C8-D8 -> -7880517869 | F8: =C8/'(별첨2) 총 매출액 현황'!C8 -> 0.32379451
A9: 5 | B9: 뉴스킨코리아㈜ | C9: 70932898310 | D9: 82398123496 | E9: =C9-D9 -> -11465225186 | F9: =C9/'(별첨2) 총 매출액 현황'!C9 -> 0.3489368
A10: 6 | B10: ㈜리만코리아 | C10: 68669210370 | D10: 0 | E10: =C10-D10 -> 68669210370 | F10: =C10/'(별첨2) 총 매출액 현황'!C10 -> 0.34632224 | G10: 24.11.17. 다단계판매업 등록하였으며, 그 이전에는 후원방문판매업자로 등록
A11: 7 | B11: 한국허벌라이프㈜ | C11: 59960607598 | D11: 63550037705 | E11: =C11-D11 -> -3589430107 | F11: =C11/'(별첨2) 총 매출액 현황'!C11 -> 0.34951208
A12: 8 | B12: 유사나헬스사이언스코리아(유) | C12: 37366493915 | D12: 39584677321 | E12: =C12-D12 -> -2218183406 | F12: =C12/'(별첨2) 총 매출액 현황'!C12 -> 0.34866814
A13: 9 | B13: ㈜비아블 | C13: 31648246777 | D13: 27244609491 | E13: =C13-D13 -> 4403637286 | F13: =C13/'(별첨2) 총 매출액 현황'!C13 -> 0.34664882
A14: 10 | B14: ㈜카리스 | C14: 30053282597 | D14: 24164447380 | E14: =C14-D14 -> 5888835217 | F14: =C14/'(별첨2) 총 매출액 현황'!C14 -> 0.34612615
A15: 11 | B15: 시너지월드와이드코리아㈜ | C15: 21442917728 | D15: 21315838783 | E15: =C15-D15 -> 127078945 | F15: =C15/'(별첨2) 총 매출액 현황'!C15 -> 0.26620096
A16: 12 | B16: (유)매나테크코리아 | C16: 23109783354 | D16: 24441535942 | E16: =C16-D16 -> -1331752588 | F16: =C16/'(별첨2) 총 매출액 현황'!C16 -> 0.3387014
A17: 13 | B17: ㈜앤알커뮤니케이션 | C17: 20926171199 | D17: 17990941539 | E17: =C17-D17 -> 2935229660 | F17: =C17/'(별첨2) 총 매출액 현황'!C17 -> 0.32011236
A18: 14 | B18: 도테라코리아(유) | C18: 18960584799 | D18: 19554401135 | E18: =C18-D18 -> -593816336 | F18: =C18/'(별첨2) 총 매출액 현황'!C18 -> 0.34761054
A19: 15 | B19: 라라코리아인터내셔날㈜ | C19: 14436266188 | D19: 15144568982 | E19: =C19-D19 -> -708302794 | F19: =C19/'(별첨2) 총 매출액 현황'!C19 -> 0.34167673
A20: 16 | B20: ㈜하이리빙 | C20: 13387481490 | D20: 12550705328 | E20: =C20-D20 -> 836776162 | F20: =C20/'(별첨2) 총 매출액 현황'!C20 -> 0.34133944
A21: 17 | B21: ㈜엔잭타 | C21: 11580294605 | D21: 12016766125 | E21: =C21-D21 -> -436471520 | F21: =C21/'(별첨2) 총 매출액 현황'!C21 -> 0.32311586
A22: 18 | B22: ㈜굿모닝월드 | C22: 10071300824 | D22: 9795069496 | E22: =C22-D22 -> 276231328 | F22: =C22/'(별첨2) 총 매출액 현황'!C22 -> 0.32896611
... A24: 20 | B24: (유)포라이프리서치코리아 | C24: 9529006227 | D24: 8875648415 | E24: =C24-D24 -> 653357812 | F24: =C24/'(별첨2) 총 매출액 현황'!C24 -> 0.3364814
A25: 21 | B25: ㈜해밀리헬스 | C25: 9557299824 | D25: 8291122280 | E25: =C25-D25 -> 1266177544 | F25: =C25/'(별첨2) 총 매출액 현황'!C25 -> 0.34475787 | G25: 주식회사 이롬플러스 → 주식회사 이롬헬스케어(2025.1.15.) → 주식회사 라이프밀(2025.12.23.) → 주식회사 해밀리헬스(2026.2.9.)
A26: 22 | B26: 니오라코리아(유) | C26: 8007924334 | D26: 5342855777 | E26: =C26-D26 -> 2665068557 | F26: =C26/'(별첨2) 총 매출액 현황'!C26 -> 0.29575922 | G26: 에이씨앤코리아 유한회사→니오라코리아 유한회사(2025.1.2.)
A27: 23 | B27: ㈜인큐텐 | C27: 8028535444 | D27: 12452464587 | E27: =C27-D27 -> -4423929143 | F27: =C27/'(별첨2) 총 매출액 현황'!C27 -> 0.33628396
A28: 24 | B28: 앨트웰㈜ | C28: 5345252940 | D28: 6378838730 | E28: =C28-D28 -> -1033585790 | F28: =C28/'(별첨2) 총 매출액 현황'!C28 -> 0.23109274
A29: 25 | B29: ㈜프리즘인터내셔널 | C29: 6079840740 | D29: 8124323860 | E29: =C29-D29 -> -2044483120 | F29: =C29/'(별첨2) 총 매출액 현황'!C29 -> 0.27292181
A30: 26 | B30: 멜라루카인터내셔날코리아㈜ | C30: 6226670157 | D30: 7212587128 | E30: =C30-D30 -> -985916971 | F30: =C30/'(별첨2) 총 매출액 현황'!C30 -> 0.30866608
A31: 27 | B31: 썬라이더다이렉트코리아(유) | C31: 5854661275 | D31: 6307126049 | E31: =C31-D31 -> -452464774 | F31: =C31/'(별첨2) 총 매출액 현황'!C31 -> 0.31735272
A32: 28 | B32: ㈜투에버 | C32: 5737787672 | D32: 5553397017 | E32: =C32-D32 -> 184390655 | F32: =C32/'(별첨2) 총 매출액 현황'!C32 -> 0.32306103
A33: 29 | B33: ㈜교원헬스케어 | C33: 5953862252 | D33: 6569242961 | E33: =C33-D33 -> -615380709 | F33: =C33/'(별첨2) 총 매출액 현황'!C33 -> 0.33992947 | G33: (주)교원더오름 → (주)교원헬스케어(2024.4.21.)
A34: 30 | B34: 힐리월드코리아㈜ | C34: 6085692276 | D34: 4667923840 | E34: =C34-D34 -> 1417768436 | F34: =C34/'(별첨2) 총 매출액 현황'!C34 -> 0.34818846
A35: 31 | B35: 뉴유라이프코리아(유) | C35: 5349661257 | D35: 5368271422 | E35: =C35-D35 -> -18610165 | F35: =C35/'(별첨2) 총 매출액 현황'!C35 -> 0.31912805
A36: 32 | B36: ㈜지에스엘 | C36: 5903227884 | D36: 5892727022 | E36: =C36-D36 -> 10500862 | F36: =C36/'(별첨2) 총 매출액 현황'!C36 -> 0.38110077
A37: 33 | B37: ㈜댄다코리아 | C37: 4874934046 | D37: 0 | E37: =C37-D37 -> 4874934046 | F37: =C37/'(별첨2) 총 매출액 현황'!C37 -> 0.31619722 | G37: 신규업체(2025.3.20.)
A38: 34 | B38: 경성제약㈜ | C38: 4544315000 | D38: 4368516360 | E38: =C38-D38 -> 175798640 | F38: =C38/'(별첨2) 총 매출액 현황'!C38 -> 0.31525572
A39: 35 | B39: 토탈스위스코리아㈜ | C39: 4484591101 | D39: 3594279794 | E39: =C39-D39 -> 890311307 | F39: =C39/'(별첨2) 총 매출액 현황'!C39 -> 0.31319687
A40: 36 | B40: ㈜더클라세움 | C40: 4724484621 | D40: 0 | E40: =C40-D40 -> 4724484621 | F40: =C40/'(별첨2) 총 매출액 현황'!C40 -> 0.34665858 | G40: 신규업체(2025.3.21.)
A41: 37 | B41: 라이프웨이브코리아㈜ | C41: 4291662073 | D41: 12509101176 | E41: =C41-D41 -> -8217439103 | F41: =C41/'(별첨2) 총 매출액 현황'!C41 -> 0.31933866
...

Sheet (별첨4) 후원수당 지급분포도(상위 1% 미만 판매원)
A1: <붙임 4>
A2: 2025년 후원수당 지급분포도(상위 1% 미만 판매원)
I3: (단위: 명, 원)
A4: 회 사 명 | C4: 2025년 | F4: 2024년 | I4: 평균지급액 증감 | J4: 비고
C5: 판매원수(1%) | D5: 지급금액 | E5: 1인당평균지급액 | F5: 판매원수(1%) | G5: 지급금액 | H5: 1인당평균지급액
A6: 1 | B6: 한국암웨이㈜ | C6: 3040 | D6: 221308866204 | E6: =D6/C6 -> 72798969 | F6: 3238 | G6: 229934930252 | H6: =G6/F6 -> 71011405 | I6: =E6-H6 -> 1787563.9
A7: 2 | B7: 애터미㈜ | C7: 3188 | D7: 173799867240 | E7: =D7/C7 -> 54516897 | F7: 3364 | G7: 183812044363 | H7: =G7/F7 -> 54640917 | I7: =E7-H7 -> -124020
A8: 3 | B8: 피엠인터내셔널코리아(유) | C8: 1120 | D8: 80748719138 | E8: =D8/C8 -> 72097071 | F8: 1181 | G8: 86192275037 | H8: =G8/F8 -> 72982451 | I8: =E8-H8 -> -885380.68
A9: 4 | B9: 유니시티코리아(유) | C9: 518 | D9: 33060667573 | E9: =D9/C9 -> 63823683 | F9: 582 | G9: 35069557412 | H9: =G9/F9 -> 60256971 | I9: =E9-H9 -> 3566711.1
A10: 5 | B10: 뉴스킨코리아㈜ | C10: 234 | D10: 32740896282 | E10: =D10/C10 -> 1.3991836e+08 | F10: 314 | G10: 36796662909 | H10: =G10/F10 -> 1.1718682e+08 | I10: =E10-H10 -> 22731536
A11: 6 | B11: ㈜리만코리아 | C11: 389 | D11: 36508665073 | E11: =D11/C11 -> 93852609 | F11: 0 | G11: 0 | H11: 0 | I11: =E11-H11 -> 93852609 | J11: 24.11.17. 다단계판매업 등록하였으며, 그 이전에는 후원방문판매업자로 등록
A12: 7 | B12: 한국허벌라이프㈜ | C12: 250 | D12: 34562675812 | E12: =D12/C12 -> 1.382507e+08 | F12: 249 | G12: 36074406421 | H12: =G12/F12 -> 1.4487713e+08 | I12: =E12-H12 -> -6626431
A13: 8 | B13: 유사나헬스사이언스코리아(유) | C13: 103 | D13: 17562072256 | E13: =D13/C13 -> 1.7050556e+08 | F13: 115 | G13: 18665576444 | H13: =G13/F13 -> 1.6230936e+08 | I13: =E13-H13 -> 8196195.5
A14: 9 | B14: ㈜비아블 | C14: 169 | D14: 18199621671 | E14: =D14/C14 -> 1.0769007e+08 | F14: 151 | G14: 15512603985 | H14: =G14/F14 -> 1.0273248e+08 | I14: =E14-H14 -> 4957592.3
A15: 10 | B15: ㈜카리스 | C15: 23 | D15: 13590834835 | E15: =D15/C15 -> 5.9090586e+08 | F15: 33 | G15: 12262859366 | H15: =G15/F15 -> 3.716018e+08 | I15: =E15-H15 -> 2.1930406e+08
A16: 11 | B16: 시너지월드와이드코리아㈜ | C16: 85 | D16: 10661605251 | E16: =D16/C16 -> 1.2543065e+08 | F16: 89 | G16: 11651626679 | H16: =G16/F16 -> 1.3091715e+08 | I16: =E16-H16 -> -5486503.7
A17: 12 | B17: (유)매나테크코리아 | C17: 53 | D17: 8810762817 | E17: =D17/C17 -> 1.6624081e+08 | F17: 63 | G17: 9700108048 | H17: =G17/F17 -> 1.5396997e+08 | I17: =E17-H17 -> 12270839
A18: 13 | B18: ㈜앤알커뮤니케이션 | C18: 100 | D18: 9412584140 | E18: =D18/C18 -> 94125841 | F18: 99 | G18: 8440428582 | H18: =G18/F18 -> 85256854 | I18: =E18-H18 -> 8868987
A19: 14 | B19: 도테라코리아(유) | C19: 64 | D19: 8261827079 | E19: =D19/C19 -> 1.2909105e+08 | F19: 86 | G19: 9761290068 | H19: =G19/F19 -> 1.1350337e+08 | I19: =E19-H19 -> 15587675
A20: 15 | B20: 라라코리아인터내셔날㈜ | C20: 110 | D20: 7288998838 | E20: =D20/C20 -> 66263626 | F20: 131 | G20: 7063827548 | H20: =G20/F20 -> 53922348 | I20: =E20-H20 -> 12341278
A21: 16 | B21: ㈜하이리빙 | C21: 113 | D21: 8349930663 | E21: =D21/C21 -> 73893192 | F21: 210 | G21: 8953914823 | H21: =G21/F21 -> 42637690 | I21: =E21-H21 -> 31255502
A22: 17 | B22: ㈜엔잭타 | C22: 42 | D22: 5046462960 | E22: =D22/C22 -> 120153880 | F22: 44 | G22: 5084826070 | H22: =G22/F22 -> 1.1556423e+08 | I22: =E22-H22 -> 4589651.1
A23: 18 | B23: ㈜굿모닝월드 | C23: 53 | D23: 4873888112 | E23: =D23/C23 -> 91960153 | F23: 56 | G23: 4768941448 | H23: =G23/F23 -> 85159669 | I23: =E23-H23 -> 6800484.3
... A25: 20 | B25: (유)포라이프리서치코리아 | C25: 37 | D25: 3480999555 | E25: =D25/C25 -> 94081069 | F25: 38 | G25: 3098994055 | H25: =G25/F25 -> 81552475 | I25: =E25-H25 -> 12528594
A26: 21 | B26: ㈜해밀리헬스 | C26: 72 | D26: 5820904939 | E26: =D26/C26 -> 80845902 | F26: 41 | G26: 4530531750 | H26: =G26/F26 -> 1.1050077e+08 | I26: =E26-H26 -> -29654872 | J26: 주식회사 이롬플러스 → 주식회사 이롬헬스케어(2025.1.15.) → 주식회사 라이프밀(2025.12.23.) → 주식회사 해밀리헬스(2026.2.9.)
A27: 22 | B27: 니오라코리아(유) | C27: 27 | D27: 3018637573 | E27: =D27/C27 -> 1.1180139e+08 | F27: 47 | G27: 2485167897 | H27: =G27/F27 -> 52875913 | I27: =E27-H27 -> 58925479 | J27: 에이씨앤코리아 유한회사→니오라코리아 유한회사(2025.1.2.)
A28: 23 | B28: ㈜인큐텐 | C28: 54 | D28: 4442294994 | E28: =D28/C28 -> 82264722 | F28: 74 | G28: 6107059222 | H28: =G28/F28 -> 82527827 | I28: =E28-H28 -> -263105.21
A29: 24 | B29: 앨트웰㈜ | C29: 28 | D29: 2154536620 | E29: =D29/C29 -> 76947736 | F29: 33 | G29: 2786310610 | H29: =G29/F29 -> 84433655 | I29: =E29-H29 -> -7485918.4
A30: 25 | B30: ㈜프리즘인터내셔널 | C30: 12 | D30: 1952828790 | E30: =D30/C30 -> 1.6273573e+08 | F30: 15 | G30: 2487948433 | H30: =G30/F30 -> 1.6586323e+08 | I30: =E30-H30 -> -3127496.4
A31: 26 | B31: 멜라루카인터내셔날코리아㈜ | C31: 40 | D31: 2676107612 | E31: =D31/C31 -> 66902690 | F31: 34 | G31: 2542338745 | H31: =G31/F31 -> 74774669 | I31: =E31-H31 -> -7871978.7
A32: 27 | B32: 썬라이더다이렉트코리아(유) | C32: 18 | D32: 2535167735 | E32: =D32/C32 -> 1.4084265e+08 | F32: 25 | G32: 2867639864 | H32: =G32/F32 -> 1.1470559e+08 | I32: =E32-H32 -> 26137057
A33: 28 | B33: ㈜투에버 | C33: 14 | D33: 1743897637 | E33: =D33/C33 -> 1.2456412e+08 | F33: 27 | G33: 2346502753 | H33: =G33/F33 -> 86907509 | I33: =E33-H33 -> 37656608
A34: 29 | B34: ㈜교원헬스케어 | C34: 39 | D34: 2473958805 | E34: =D34/C34 -> 63434841 | F34: 47 | G34: 2888043337 | H34: =G34/F34 -> 61447731 | I34: =E34-H34 -> 1987110.6 | J34: (주)교원더오름 → (주)교원헬스케어(2024.4.21.)
A35: 30 | B35: 힐리월드코리아㈜ | C35: 16 | D35: 1742843161 | E35: =D35/C35 -> 1.089277e+08 | F35: 17 | G35: 1424415320 | H35: =G35/F35 -> 83789136 | I35: =E35-H35 -> 25138561
A36: 31 | B36: 뉴유라이프코리아(유) | C36: 20 | D36: 2693805910 | E36: =D36/C36 -> 1.346903e+08 | F36: 22 | G36: 2880087264 | H36: =G36/F36 -> 1.3091306e+08 | I36: =E36-H36 -> 3777238
A37: 32 | B37: ㈜지에스엘 | C37: 32 | D37: 2762355020 | E37: =D37/C37 -> 86323594 | F37: 42 | G37: 3064470605 | H37: =G37/F37 -> 72963586 | I37: =E37-H37 -> 13360009
A38: 33 | B38: ㈜댄다코리아 | C38: 82 | D38: 3248088374 | E38: =D38/C38 -> 39610834 | F38: 0 | G38: 0 | H38: 0 | I38: =E38-H38 -> 39610834 | J38: 신규업체(2025.3.20.)
A39: 34 | B39: 경성제약㈜ | C39: 37 | D39: 1945856990 | E39: =D39/C39 -> 52590729 | F39: 32 | G39: 1943161360 | H39: =G39/F39 -> 60723792 | I39: =E39-H39 -> -8133063
A40: 35 | B40: 토탈스위스코리아㈜ | C40: 16 | D40: 1281497433 | E40: =D40/C40 -> 80093590 | F40: 25 | G40: 1274654824 | H40: =G40/F40 -> 50986193 | I40: =E40-H40 -> 29107397
A41: 36 | B41: ㈜더클라세움 | C41: 53 | D41: 1947493283 | E41: =D41/C41 -> 36745156 | F41: 0 | G41: 0 | H41: 0 | I41: =E41-H41 -> 36745156 | J41: 신규업체(2025.3.21.)
...

Sheet (별첨5) 등록 판매원과 후원수당 수령 판매원 현황
A1: <붙임 5>
A2: 2025년 등록 판매원과 후원수당 수령 판매원 현황
H3: (단위: 명)
A4: 회 사 명 | C4: 2025년 | E4: 2024년 | G4: 비 고(증감) | I4: 비고
C5: 등록 | D5: 수령 | E5: 등록 | F5: 수령 | G5: 등록 | H5: 수령
A6: 1 | B6: 한국암웨이㈜ | C6: 792044 | D6: 304019 | E6: 840105 | F6: 323869 | G6: =C6-E6 -> -48061 | H6: =D6-F6 -> -19850
A7: 2 | B7: 애터미㈜ | C7: 2734939 | D7: 318808 | E7: 2839800 | F7: 336513 | G7: =C7-E7 -> -104861 | H7: =D7-F7 -> -17705
A8: 3 | B8: 피엠인터내셔널코리아(유) | C8: 1019250 | D8: 112094 | E8: 907044 | F8: 118152 | G8: =C8-E8 -> 112206 | H8: =D8-F8 -> -6058
A9: 4 | B9: 유니시티코리아(유) | C9: 95679 | D9: 51889 | E9: 102405 | F9: 58270 | G9: =C9-E9 -> -6726 | H9: =D9-F9 -> -6381
A10: 5 | B10: 뉴스킨코리아㈜ | C10: 23665 | D10: 23434 | E10: 107621 | F10: 31439 | G10: =C10-E10 -> -83956 | H10: =D10-F10 -> -8005
A11: 6 | B11: ㈜리만코리아 | C11: 72667 | D11: 38934 | E11: 0 | F11: 0 | G11: =C11-E11 -> 72667 | H11: =D11-F11 -> 38934 | I11: 24.11.17. 다단계판매업 등록하였으며, 그 이전에는 후원방문판매업자로 등록
A12: 7 | B12: 한국허벌라이프㈜ | C12: 86726 | D12: 25081 | E12: 67770 | F12: 24961 | G12: =C12-E12 -> 18956 | H12: =D12-F12 -> 120
A13: 8 | B13: 유사나헬스사이언스코리아(유) | C13: 188796 | D13: 10345 | E13: 217914 | F13: 11597 | G13: =C13-E13 -> -29118 | H13: =D13-F13 -> -1252
A14: 9 | B14: ㈜비아블 | C14: 56117 | D14: 16902 | E14: 53742 | F14: 15121 | G14: =C14-E14 -> 2375 | H14: =D14-F14 -> 1781
A15: 10 | B15: ㈜카리스 | C15: 17459 | D15: 2585 | E15: 19796 | F15: 3303 | G15: =C15-E15 -> -2337 | H15: =D15-F15 -> -718
A16: 11 | B16: 시너지월드와이드코리아㈜ | C16: 53678 | D16: 8513 | E16: 44440 | F16: 8988 | G16: =C16-E16 -> 9238 | H16: =D16-F16 -> -475
A17: 12 | B17: (유)매나테크코리아 | C17: 32734 | D17: 5318 | E17: 45362 | F17: 6301 | G17: =C17-E17 -> -12628 | H17: =D17-F17 -> -983
A18: 13 | B18: ㈜앤알커뮤니케이션 | C18: 349372 | D18: 10056 | E18: 339578 | F18: 9916 | G18: =C18-E18 -> 9794 | H18: =D18-F18 -> 140
A19: 14 | B19: 도테라코리아(유) | C19: 43348 | D19: 7076 | E19: 42515 | F19: 9451 | G19: =C19-E19 -> 833 | H19: =D19-F19 -> -2375
A20: 15 | B20: 라라코리아인터내셔날㈜ | C20: 113871 | D20: 11091 | E20: 98064 | F20: 13191 | G20: =C20-E20 -> 15807 | H20: =D20-F20 -> -2100
A21: 16 | B21: ㈜하이리빙 | C21: 27178 | D21: 11353 | E21: 28678 | F21: 21007 | G21: =C21-E21 -> -1500 | H21: =D21-F21 -> -9654
A22: 17 | B22: ㈜엔잭타 | C22: 16533 | D22: 4220 | E22: 13750 | F22: 4367 | G22: =C22-E22 -> 2783 | H22: =D22-F22 -> -147
A23: 18 | B23: ㈜굿모닝월드 | C23: 49053 | D23: 5406 | E23: 47586 | F23: 5708 | G23: =C23-E23 -> 1467 | H23: =D23-F23 -> -302
... A25: 20 | B25: (유)포라이프리서치코리아 | C25: 27428 | D25: 3734 | E25: 19694 | F25: 3824 | G25: =C25-E25 -> 7734 | H25: =D25-F25 -> -90
A26: 21 | B26: ㈜해밀리헬스 | C26: 21176 | D26: 7254 | E26: 26191 | F26: 4171 | G26: =C26-E26 -> -5015 | H26: =D26-F26 -> 3083 | I26: 주식회사 이롬플러스 → 주식회사 이롬헬스케어(2025.1.15.) → 주식회사 라이프밀(2025.12.23.) → 주식회사 해밀리헬스(2026.2.9.)
A27: 22 | B27: 니오라코리아(유) | C27: 8101 | D27: 2731 | E27: 5900 | F27: 4729 | G27: =C27-E27 -> 2201 | H27: =D27-F27 -> -1998 | I27: 에이씨앤코리아 유한회사→니오라코리아 유한회사(2025.1.2.)
A28: 23 | B28: ㈜인큐텐 | C28: 10377 | D28: 5435 | E28: 13357 | F28: 7586 | G28: =C28-E28 -> -2980 | H28: =D28-F28 -> -2151
A29: 24 | B29: 앨트웰㈜ | C29: 27072 | D29: 2885 | E29: 25952 | F29: 3397 | G29: =C29-E29 -> 1120 | H29: =D29-F29 -> -512
A30: 25 | B30: ㈜프리즘인터내셔널 | C30: 7045 | D30: 1290 | E30: 6768 | F30: 1565 | G30: =C30-E30 -> 277 | H30: =D30-F30 -> -275
A31: 26 | B31: 멜라루카인터내셔날코리아㈜ | C31: 9522 | D31: 4058 | E31: 9754 | F31: 3408 | G31: =C31-E31 -> -232 | H31: =D31-F31 -> 650
A32: 27 | B32: 썬라이더다이렉트코리아(유) | C32: 9891 | D32: 2111 | E32: 8577 | F32: 2564 | G32: =C32-E32 -> 1314 | H32: =D32-F32 -> -453
A33: 28 | B33: ㈜투에버 | C33: 30399 | D33: 1432 | E33: 32398 | F33: 2712 | G33: =C33-E33 -> -1999 | H33: =D33-F33 -> -1280
A34: 29 | B34: ㈜교원헬스케어 | C34: 103489 | D34: 3922 | E34: 92319 | F34: 4714 | G34: =C34-E34 -> 11170 | H34: =D34-F34 -> -792 | I34: (주)교원더오름 → (주)교원헬스케어(2024.4.21.)
A35: 30 | B35: 힐리월드코리아㈜ | C35: 15730 | D35: 1606 | E35: 13551 | F35: 1728 | G35: =C35-E35 -> 2179 | H35: =D35-F35 -> -122
A36: 31 | B36: 뉴유라이프코리아(유) | C36: 34025 | D36: 2034 | E36: 24444 | F36: 2243 | G36: =C36-E36 -> 9581 | H36: =D36-F36 -> -209
A37: 32 | B37: ㈜지에스엘 | C37: 11288 | D37: 3283 | E37: 11630 | F37: 4227 | G37: =C37-E37 -> -342 | H37: =D37-F37 -> -944
A38: 33 | B38: ㈜댄다코리아 | C38: 25112 | D38: 8297 | E38: 0 | F38: 0 | G38: =C38-E38 -> 25112 | H38: =D38-F38 -> 8297 | I38: 신규업체(2025.3.20.)
A39: 34 | B39: 경성제약㈜ | C39: 9778 | D39: 3708 | E39: 8454 | F39: 3246 | G39: =C39-E39 -> 1324 | H39: =D39-F39 -> 462
A40: 35 | B40: 토탈스위스코리아㈜ | C40: 38495 | D40: 1686 | E40: 38009 | F40: 2537 | G40: =C40-E40 -> 486 | H40: =D40-F40 -> -851
A41: 36 | B41: ㈜더클라세움 | C41: 16563 | D41: 5327 | E41: 0 | F41: 0 | G41: =C41-E41 -> 16563 | H41: =D41-F41 -> 5327 | I41: 신규업체(2025.3.21.)
...

Sheet (별첨6) 후원수당 수령 판매원의 평균 수령액
A1: <붙임 6>
A2: 2025년 후원수당 수령 판매원의 평균 수령액
I3: (단위: 명, 원)
A4: 회 사 명 | C4: 2025년 | F4: 2024년 | I4: 평균수령액 증감
C5: 수령총액 | D5: 수령판매원수 | E5: 수령1인당평균수령액 | F5: 수령총액 | G5: 수령판매원수 | H5: 1인당평균수령액
A6: 1 | B6: 한국암웨이㈜ | C6: 365296191632 | D6: 304019 | E6: 1201557.1 | F6: 376047198295 | G6: 323869 | H6: 1161109 | I6: =E6-H6 -> 40448.15
A7: 2 | B7: 애터미㈜ | C7: 276474050900 | D7: 318808 | E7: 867211.77 | F7: 299093837853 | G7: 336513 | H7: 888803.22 | I7: =E7-H7 -> -21591.447
A8: 3 | B8: 피엠인터내셔널코리아(유) | C8: 171389374232 | D8: 112094 | E8: 1528979 | F8: 178111060003 | G8: 118152 | H8: 1507473.9 | I8: =E8-H8 -> 21505.088
A9: 4 | B9: 유니시티코리아(유) | C9: 67394102995 | D9: 51889 | E9: 1298812.9 | F9: 75274620864 | G9: 58270 | H9: 1291824.6 | I9: =E9-H9 -> 6988.2838
A10: 5 | B10: 뉴스킨코리아㈜ | C10: 70932898310 | D10: 23434 | E10: 3026922.3 | F10: 82398123496 | G10: 31439 | H10: 2620888.8 | I10: =E10-H10 -> 406033.53
A11: 6 | B11: ㈜리만코리아 | C11: 68669210370 | D11: 38934 | E11: 1763733.8 | F11: 0 | G11: 0 | H11: 0 | I11: =E11-H11 -> 1763733.8
A12: 7 | B12: 한국허벌라이프㈜ | C12: 59960607598 | D12: 25081 | E12: 2390678.5 | F12: 63550037705 | G12: 24961 | H12: 2545973.2 | I12: =E12-H12 -> -155294.72
A13: 8 | B13: 유사나헬스사이언스코리아(유) | C13: 37366493915 | D13: 10345 | E13: 3612034.2 | F13: 39584677321 | G13: 11597 | H13: 3413354.9 | I13: =E13-H13 -> 198679.26
A14: 9 | B14: ㈜비아블 | C14: 31648246777 | D14: 16902 | E14: 1872455.7 | F14: 27244609491 | G14: 15121 | H14: 1801773 | I14: =E14-H14 -> 70682.734
A15: 10 | B15: ㈜카리스 | C15: 30053282597 | D15: 2585 | E15: 11626028 | F15: 24164447380 | G15: 3303 | H15: 7315909 | I15: =E15-H15 -> 4310119.1
A16: 11 | B16: 시너지월드와이드코리아㈜ | C16: 21442917728 | D16: 8513 | E16: 2518843.9 | F16: 21315838783 | G16: 8988 | H16: 2371588.6 | I16: =E16-H16 -> 147255.2
A17: 12 | B17: 유한책임회사매나테크코리아 | C17: 23109783354 | D17: 5318 | E17: 4345577.9 | F17: 24441535942 | G17: 6301 | H17: 3878993.2 | I17: =E17-H17 -> 466584.75
... A125: 120 | B125: ㈜씨에이치다이렉트 | C125: 0 | D125: 0 | E125: 0 | F125: 382976267 | G125: 342 | H125: 1119813.6 | I125: =E125-H125 -> -1119813.6
A126: 합계 | C126: =SUM(C6:C125) -> 1511549899396 | D126: =SUM(D6:D125) -> 1103509 | E126: =ROUND(C126/D126,0) -> 1369767 | F126: =SUM(F6:F125) -> 1509931311170 | G126: =SUM(G6:G125) -> 1156733 | H126: =ROUND(F126/G126,0) -> 1305341

Sheet (별첨7) 후원수당 금액수준별 지급분포도
A1: <붙임 7>
A2: 2025년 후원수당 금액 수준별 지급분포도
L3: (단위: 명)
A4: 순번 | B4: 회 사 명 | C4: 1억원 이상 후원수당 지급한 판매원수 | D4: 1억원 미만~5천만원 이상 후원수당 지급한 판매원수 | E4: 5천만원 미만~3천만원 이상 후원수당 지급한 판매원수 | F4: 3천만원 미만~2천만원 이상 후원수당 지급한 판매원수 | G4: 2천만원 미만~1천만원 이상 후원수당 지급한 판매원수 | H4: 1천만원 미만~500만원 이상 후원수당 지급한 판매원수 | I4: 500만원 미만~100만원 이상 후원수당 지급한 판매원수 | J4: 100만원 미만~50만원 이상 후원수당 지급한 판매원수 | K4: 50만원 미만~0원 초과 후원수당 지급한 판매원수 | L4: 후원수당 지급액 없는 판매원 수
A5: 1 | B5: 한국암웨이㈜ | C5: 384 | D5: 925 | E5: 1765 | F5: 978 | G5: 1925 | H5: 3484 | I5: 16844 | J5: 14452 | K5: 263262 | L5: 488025
A6: 2 | B6: 애터미㈜ | C6: 321 | D6: 435 | E6: 682 | F6: 862 | G6: 1696 | H6: 2379 | I6: 15851 | J6: 16246 | K6: 280336 | L6: 2416131
A7: 3 | B7: 피엠인터내셔널코리아(유) | C7: 197 | D7: 269 | E7: 349 | F7: 588 | G7: 1274 | H7: 2058 | I7: 15259 | J7: 11042 | K7: 81058 | L7: 907156
A8: 4 | B8: 유니시티코리아(유) | C8: 70 | D8: 127 | E8: 213 | F8: 268 | G8: 643 | H8: 1106 | I8: 3990 | J8: 2937 | K8: 42535 | L8: 43790
A9: 5 | B9: 뉴스킨코리아㈜ | C9: 109 | D9: 159 | E9: 204 | F9: 244 | G9: 599 | H9: 717 | I9: 2509 | J9: 1877 | K9: 17016 | L9: 231
A10: 6 | B10: ㈜리만코리아 | C10: 84 | D10: 99 | E10: 127 | F10: 174 | G10: 496 | H10: 958 | I10: 4489 | J10: 5339 | K10: 27168 | L10: 33733
A11: 7 | B11: 한국허벌라이프㈜ | C11: 77 | D11: 138 | E11: 107 | F11: 148 | G11: 355 | H11: 467 | I11: 2799 | J11: 3153 | K11: 17837 | L11: 61645
A12: 8 | B12: 유사나헬스사이언스코리아(유) | C12: 54 | D12: 55 | E12: 90 | F12: 94 | G12: 293 | H12: 459 | I12: 1945 | J12: 1222 | K12: 6133 | L12: 178451
A13: 9 | B13: ㈜비아블 | C13: 41 | D13: 51 | E13: 78 | F13: 78 | G13: 150 | H13: 339 | I13: 1858 | J13: 2008 | K13: 12299 | L13: 39215
A14: 10 | B14: ㈜카리스 | C14: 57 | D14: 61 | E14: 44 | F14: 39 | G14: 107 | H14: 129 | I14: 427 | J14: 311 | K14: 1410 | L14: 14874
A15: 11 | B15: 시너지월드와이드코리아㈜ | C15: 27 | D15: 30 | E15: 57 | F15: 70 | G15: 164 | H15: 262 | I15: 1185 | J15: 794 | K15: 5924 | L15: 45165
A16: 12 | B16: 유한책임회사매나테크코리아 | C16: 37 | D16: 43 | E16: 68 | F16: 71 | G16: 211 | H16: 245 | I16: 1178 | J16: 755 | K16: 2710 | L16: 27416
... A116: 112 | B116: ㈜스타비즈파트너스 | C116: 0 | D116: 0 | E116: 0 | F116: 0 | G116: 0 | H116: 0 | I116: 0 | J116: 1 | K116: 26 | L116: 545
A117: 합계 | C117: =SUM(C5:C116) -> 1784 | D117: =SUM(D5:D116) -> 2908 | E117: =SUM(E5:E116) -> 4561 | F117: =SUM(F5:F116) -> 4457 | G117: =SUM(G5:G116) -> 10467 | H117: =SUM(H5:H116) -> 16889 | I117: =SUM(I5:I116) -> 90811 | J117: =SUM(J5:J116) -> 75890 | ... L117: =SUM(L5:L116) -> 5845292

Sheet (별첨8) 상위 5개 매출품목
A1: <붙임 8>
A2: 2025년 업체별 상위 5개 매출품목 현황
A4: 회 사 명 | C4: 상위 1위 품목 | D4: 상위 2위 품목 | E4: 상위 3위 품목 | F4: 상위 4위 품목 | G4: 상위 5위 품목
A5: 1 | B5: 한국암웨이㈜ | C5: 이스프링 정수기 필터 카트리지 (생활용품) | D5: 밸런스 위드인 365 (건강식품) | E5: 뉴트리 파이토 푸로틴 (건강식품) | F5: 아세로라C (건강식품) | G5: 맨즈 에너지 팩 (건강식품)
A6: 2 | B6: 애터미㈜ | C6: 애터미헤모힘(건강식품) | D6: 애터미 앱솔루트 셀렉티브 스킨케어(화장품) | E6: 애터미 화장지 (생활용품) | F6: 애터미 스킨케어 시스템 더페임 (화장품) | G6: 애터미 친생유산균(건강식품)
A7: 3 | B7: 피엠인터내셔널코리아(유) | C7: 오토십(건강식품) | D7: 액션팩(건강식품) | E7: [5+1] 액티바이즈(건강식품) | F7: BA Special(건강식품) | G7: 액티바이즈(건강식품)
A8: 4 | B8: 유니시티코리아(유) | C8: 바이오스 라이프 C Plus (건강식품) | D8: 바이오스 라이프 E 에너지 (건강식품) | E8: 오메가 라이프3 120 리졸브 (건강식품) | F8: 클로로파워 (건강식품) | G8: 클리어 스타트 팩 플러스 (건강식품)
A9: 5 | B9: 뉴스킨코리아㈜ | C9: PX ageLOC (건강식품) | D9: TRME (건강식품) | E9: Tru Face (화장품) | F9: Face Care (화장품) | G9: PX Weight-loss (건강식품)
A10: 6 | B10: ㈜리만코리아 | C10: 더마톨로지 퍼스트 패키지 (화장품) | D10: 더마톨로지 크림 (화장품) | E10: 라이프닝 딥톡 플러스 (건강식품) | F10: 투페이스 오일 미스트 (화장품) | G10: 카밍 밸런스 젤 (화장품)
A11: 7 | B11: 한국허벌라이프㈜ | C11: 허벌 알로에 겔 망고 (건강식품) (건강식품) | D11: 면역튼튼 알로에겔 세트- 망고맛 (건강식품) | E11: 나이트웍스 비타민C, E, 엽산 (건강식품) (건강식품) | F11: 허벌 베버리지 (건강식품) (건강식품) | G11: 허벌라이브24 리빌드 스트랭쓰 (건강식품) (건강식품)
A12: 8 | B12: 유사나헬스사이언스코리아(유) | C12: 헬스팩 (건강식품) | D12: 프로바이오틱 (건강식품) | E12: 바이오메가 (건강식품) | F12: 프로후라바놀C300 (건강식품) | G12: 헤파실 (건강식품)
A13: 9 | B13: ㈜비아블 | C13: 셀비아 [A] 176 컬렉션 세트 (화장품) | D13: 셀비아 [B] 176 컬렉션 세트 (화장품) | E13: [한가위 프로모션] '한' 세트 (화장품) | F13: 셀비아 [C] 176 컬렉션 세트 (화장품) | G13: [가정의달 패키지1] 셀비아 [A] 176 컬렉션 세트 + 프리미엄 앰플 + 아름다운 키트 (화장품)
A14: 10 | B14: ㈜카리스 | C14: 미라클 다이아몬드 필 (화장품) | D14: 비타민C 3종 세트 (화장품) | E14: 얼티밋 스킨케어 컬렉션 10종 (화장품) | F14: 멀티 펩타이드 토너 (화장품) | G14: CPR 프로그램 세트 (화장품)
A15: 11 | B15: 시너지월드와이드코리아㈜ | C15: ProArgi-9 Plus_Rebranded (건강식품) | D15: PA-9+ PROGUARD (건강식품) | E15: Synerbeet (건강식품) | F15: SYNERGY MAXIMUM PROTEIN (건강식품) | G15: B-Prime (건강식품)
A16: 12 | B16: 유한책임회사매나테크코리아 | C16: 옵티멀 서포트 패킷 (건강식품) | D16: 앰브로토스 라이프 (건강식품) | E16: 트루퓨어 (건강식품) | F16: 지아이-프로밸런스 (건강식품) | G16: 오소린 (건강식품)
... A116: 112 | B116: ㈜스타비즈파트너스 | C116: 스타비즈패키지(화장품) | D116: 마이크로바이옴 솔루션(식품) | E116: 마이크로콘 트리트먼트 솔루션(화장품) | F116: 소프트필케어솔루션(화장품) | G116: 카라다 어렌지 나노 ECF 유산구균 과립 60조(식품)
