Workbook

Sheet (별첨1) 일반현황
A1: <붙임 1>
A2: 2025년 공개대상 112개 사업자 일반현황
A4: 회 사 명 | C4: 대표자 | D4: 등록번호 | E4: 소재지 | F4: 피해보상보험가입 | G4: 비고
A5: □ 영업 업체(2025. 12. 31. 기준 등록업체 중 2025년도 판매실적이 있는 업체)
A6: 1 | B6: 한국암웨이㈜ | C6: 신은자, 존패트릭파커 | D6: 서울 제1호 | E6: 서울시 강남구 영동대로 517, 27, 28, 29층 (삼성동,아셈타워) | F6: 직접판매공제조합
A7: 2 | B7: 애터미㈜ | C7: 박한길, 윤용순 | D7: 충남 - 7호 | E7: 충청남도 공주시 백제문화로 2148-21, | F7: 한국특수판매공제조합
A8: 3 | B8: 피엠인터내셔널코리아(유) | C8: 티모브라이트하우프트 | D8: 서울 제882호 | E8: 서울특별시 영등포구 의사당대로 8 602 | F8: 한국특수판매공제조합
A9: 4 | B9: 유니시티코리아(유) | C9: 록키스마트 | D9: 서울 제535호 | E9: 서울시 강남구 테헤란로 328, 3층 (역삼동, 동우빌딩) | F9: 직접판매공제조합
A10: 5 | B10: 뉴스킨코리아㈜ | C10: 조지훈 | D10: 서울 제58호 | E10: 서울시 강남구 삼성동 봉은사로 86길 6 (삼성동) | F10: 직접판매공제조합
A11: 6 | B11: ㈜리만코리아 | C11: 황영수, 강영재 | D11: 대구 2024-01호 | E11: 대구시 동구 동대구로 503 (신천동), 2~3층 | F11: 직접판매공제조합 | G11: 24.11.17. 다단계판매업 등록, 그 이전에는 후원방문판매업자로 등록
A12: 7 | B12: 한국허벌라이프㈜ | C12: 정승욱 | D12: 서울 제90호 | E12: 서울시 강남구 논현로 706 (논현동, 아이캐슬빌딩) | F12: 직접판매공제조합
A13: 8 | B13: 유사나헬스사이언스코리아(유) | C13: 더글라스 헤킹 | D13: 서울 제527호 | E13: 서울시 강남구 테헤란로 203, 4층, 5층 (역삼동, 서울인터내셔널타워) | F13: 직접판매공제조합
A14: 9 | B14: ㈜비아블 | C14: 이수범 | D14: 경기 제2018-2호 | E14: 경기 부천시 옥산로220번길 26, 5층 (도당동, 미코빌딩) | F14: 직접판매공제조합
A15: 10 | B15: ㈜카리스 | C15: 김현수 | D15: 경기 2013-3 | E15: 경기도 성남시 분당구 황새울로335번길 5, 7층 | F15: 한국특수판매공제조합
A16: 11 | B16: 시너지월드와이드코리아㈜ | C16: 데니얼 노먼 | D16: 서울 제153호 | E16: 서울 강동구 고덕비즈밸리로2가길 20 (고덕동) 4~8층 (고덕동, 도드람타워) | F16: 직접판매공제조합
A17: 12 | B17: 유한책임회사매나테크코리아 | C17: 노재홍 | D17: 서울 제563호 | E17: 서울시 강남구 강남대로 358, 9층 (역삼동, 강남358타워) | F17: 직접판매공제조합
A18: 13 | B18: ㈜앤알커뮤니케이션 | C18: 성호종 | D18: 경기 제2016-2호 | E18: 경기도 수원시 영통구 센트럴타운로 114-8, 3층 (이의동, 농우바이오빌딩) | F18: 직접판매공제조합
A19: 14 | B19: 도테라코리아(유) | C19: 장재훈 | D19: 서울-제786호 | E19: 서울특별시 서초구 남부순환로 2561, 지하 1층, 지상 1층, 지상 2층(서초동) | F19: 한국특수판매공제조합
A20: 15 | B20: 라라코리아인터내셔날㈜ | C20: 김성엽 | D20: 경기 제2023-1호 | E20: 경기도 성남시 분당구 성남대로916번길 11, 제7층 701호(야탑동, 글라스타워) | F20: 한국특수판매공제조합
A21: 16 | B21: ㈜하이리빙 | C21: 최영두 | D21: 서울 제88호 | E21: 서울 중구 을지로 158, 4층 (을지로4가, 삼풍빌딩) | F21: 직접판매공제조합
A22: 17 | B22: ㈜엔잭타 | C22: 러셀 에드워드 홀 | D22: 서울-제686호 | E22: 서울특별시 강남구 역삼로 25길 23, 5층(역삼동, 대일테크빌딩) | F22: 한국특수판매공제조합
A23: 18 | B23: ㈜굿모닝월드 | C23: 김선명, 이천용 | D23: 서울 제834호 | E23: 서울특별시 강남구 봉은사로63길 7 2층 | F23: 한국특수판매공제조합
... A110: 105 | B110: ㈜스타비즈파트너스 | C110: 이형신 | D110: 충남-12호 | E110: 충청남도 천안시 서북구 2공단8길 51, B동 1층 102호 (업성동, 라파스천안공장) | F110: 한국특수판매공제조합
A112: □ 폐업 등 업체(2026.4.30.기준)
A113: 1 | B113: 리영글로벌㈜ | C113: 조인창 | D113: 서울 제940호 | E113: 서울시 강남구 언주로 428, 10층(역삼동) | F113: 한국특수판매공제조합 | G113: 2025-09-18 폐업
A114: 2 | B114: ㈜지나이스루루 | C114: 백윤사 | D114: 대전 제41호 | E114: 대전시 서구 둔산대로 117번길 95 리더스타운D동 601호 | F114: 한국특수판매공제조합 | G114: 2025-07-25 폐업
A115: 3 | B115: 키아리코리아(주) | C115: 로버트 레이나 | D115: 부산2023-1호 | E115: 부산광역시 동구 중앙대로 216 6층(초량동) | F115: 한국특수판매공제조합 | G115: 2025-07-07 폐업
A116: 4 | B116: ㈜클로버유 | C116: 문광수 | D116: 경기 제2025-4호 | E116: 경기도 안양시 동안구 경수대로 454, 에이동 3층 301호(호계동, 유환프라자) | F116: 한국특수판매공제조합 | G116: 2025-12-31 폐업
A117: 5 | B117: ㈜씨에이치다이렉트 | C117: 가경진 | D117: 서울 제896호 | E117: 서울시 용산구 청파로 383 1층 | F117: 한국특수판매공제조합 | G117: 2025-11-07 폐업
A118: 6 | B118: ㈜에스디플랫폼 | C118: 박명환 | D118: 서울-제860호 | E118: 서울시 강남구 봉은사로 465, 7층(삼성동, 아이타워) | F118: 한국특수판매공제조합 | G118: 2026-03-27 폐업
A119: 7 | B119: ㈜골드트리글로벌 | C119: 정지용 | D119: 대구 2026-1호 | E119: 대구 달서구 월곡로 260, 703, 704호(상인동,상인프라자) | F119: 한국특수판매공제조합 | G119: 2026-04-16 폐업
A121: □ 2025년도 신규 영업 업체
A122: 1 | B122: ㈜댄다코리아 | C122: 박승태 | D122: 경기-제2025-3호 | E122: 경기도 성남시 수정구 위례광장로 19, 410호 | F122: 한국특수판매공제조합 | G122: 2025-03-20 등록
A123: 2 | B123: ㈜더클라세움 | C123: 차진희 | D123: 부산 제2025-2호 | E123: 부산광역시 부산진구 중앙대로635번길 25 203호 | F123: 한국특수판매공제조합 | G123: 2025-03-21 등록
A124: 3 | B124: ㈜팍스리테일 | C124: 박은석 | D124: 대구2025-01호 | E124: 대구광역시 나묵 대명로 124, 7층 | F124: 국민은행 | G124: 2025-03-18 등록
A125: 4 | B125: ㈜엘바이오랩스 | C125: 김선호 | D125: 서울 제952호 | E125: 서울특별시 송파구 위례성대로 18 금복빌딩 1301호 | F125: 한국특수판매공제조합 | G125: 2025-06-26 등록
A126: 5 | B126: 뉴시아코리아㈜ | C126: 이옥진 | D126: 부산 2025-3호 | E126: 부산광역시 사상구 학감대로 252, 7층 | F126: 한국특수판매공제조합 | G126: 2025-07-28 등록
A127: 6 | B127: ㈜카나비 | C127: 엄시진 | D127: 서울 제954호 | E127: 서울특별시 서초구 강남대로 163, 2층 | F127: 한국특수판매공제조합 | G127: 2025-11-06 등록
A128: 7 | B128: ㈜바이오베스타 | C128: 이앤드류경인 | D128: 서울 제953호 | E128: 서울특별시 강동구 올림픽로 682-8, B1F | F128: 한국특수판매공제조합 | G128: 2025-08-28 등록

Sheet (별첨2) 총 매출액 현황
A1: <붙임 2>
A2: 2025년 총 매출액 현황
F3: (단위: 원)
A4: 회 사 명 | C4: 2025년 | D4: 2024년 | E4: 증 감 | F4: 비 고
A5: 1 | B5: 한국암웨이㈜ | C5: 1101793855556 | D5: 1149180449991 | E5: =C5-D5 -> -47386594435
A6: 2 | B6: 애터미㈜ | C6: 797125781627 | D6: 856973505760 | E6: =C6-D6 -> -59847724133
A7: 3 | B7: 피엠인터내셔널코리아(유) | C7: 515784347526 | D7: 528020262515 | E7: =C7-D7 -> -12235914989
A8: 4 | B8: 유니시티코리아(유) | C8: 208138500520 | D8: 227959010539 | E8: =C8-D8 -> -19820510019
A9: 5 | B9: 뉴스킨코리아㈜ | C9: 203282937302 | D9: 249284210687 | E9: =C9-D9 -> -46001273385
A10: 6 | B10: ㈜리만코리아 | C10: 198281259087 | D10: 0 | E10: =C10-D10 -> 198281259087 | F10: 24.11.17. 다단계판매업 등록하였으며, 그 이전에는 후원방문판매업자로 등록
A11: 7 | B11: 한국허벌라이프㈜ | C11: 171555178849 | D11: 181797000124 | E11: =C11-D11 -> -10241821275
A12: 8 | B12: 유사나헬스사이언스코리아(유) | C12: 107169223096 | D12: 116728332178 | E12: =C12-D12 -> -9559109082
A13: 9 | B13: ㈜비아블 | C13: 91297719916 | D13: 77897673914 | E13: =C13-D13 -> 13400046002
A14: 10 | B14: ㈜카리스 | C14: 86827540195 | D14: 69761261700 | E14: =C14-D14 -> 17066278495
A15: 11 | B15: 시너지월드와이드코리아㈜ | C15: 80551616510 | D15: 77898560363 | E15: =C15-D15 -> 2653056147
A16: 12 | B16: (유)매나테크코리아 | C16: 68230550750 | D16: 71441585161 | E16: =C16-D16 -> -3211034411
A17: 13 | B17: ㈜앤알커뮤니케이션 | C17: 65371330659 | D17: 57219489610 | E17: =C17-D17 -> 8151841049
A18: 14 | B18: 도테라코리아(유) | C18: 54545483155 | D18: 56369531897 | E18: =C18-D18 -> -1824048742
A19: 15 | B19: 라라코리아인터내셔날㈜ | C19: 42251241403 | D19: 43401569284 | E19: =C19-D19 -> -1150327881
A20: 16 | B20: ㈜하이리빙 | C20: 39220435364 | D20: 37383795470 | E20: =C20-D20 -> 1836639894
A21: 17 | B21: ㈜엔잭타 | C21: 35839449140 | D21: 36273881500 | E21: =C21-D21 -> -434432360
A22: 18 | B22: ㈜굿모닝월드 | C22: 30615010460 | D22: 30241934260 | E22: =C22-D22 -> 373076200
... A24: 20 | B24: (유)포라이프리서치코리아 | C24: 28319562737 | D24: 30363800718 | E24: =C24-D24 -> -2044237981
A25: 21 | B25: ㈜해밀리헬스 | C25: 27721774050 | D25: 27296227700 | E25: =C25-D25 -> 425546350 | F25: 주식회사 이롬플러스 → 주식회사 이롬헬스케어(2025.1.15.) → 주식회사 라이프밀(2025.12.23.) → 주식회사 해밀리헬스(2026.2.9.)
A26: 22 | B26: 니오라코리아(유) | C26: 27075822974 | D26: 24706224109 | E26: =C26-D26 -> 2369598865 | F26: 에이씨앤코리아 유한회사→니오라코리아 유한회사(2025.1.2.)
A27: 23 | B27: ㈜인큐텐 | C27: 23874273916 | D27: 36246192467 | E27: =C27-D27 -> -12371918551
A28: 24 | B28: 앨트웰㈜ | C28: 23130336882 | D28: 26361770943 | E28: =C28-D28 -> -3231434061
A29: 25 | B29: ㈜프리즘인터내셔널 | C29: 22276859400 | D29: 25390917600 | E29: =C29-D29 -> -3114058200
A30: 26 | B30: 멜라루카인터내셔날코리아㈜ | C30: 20172836135 | D30: 23817749420 | E30: =C30-D30 -> -3644913285
A31: 27 | B31: 썬라이더다이렉트코리아(유) | C31: 18448435896 | D31: 19287789184 | E31: =C31-D31 -> -839353288
A32: 28 | B32: ㈜투에버 | C32: 17760692480 | D32: 16119113650 | E32: =C32-D32 -> 1641578830
A33: 29 | B33: ㈜교원헬스케어 | C33: 17514992649 | D33: 19115160060 | E33: =C33-D33 -> -1600167411 | F33: (주)교원더오름 → (주)교원헬스케어(2024.4.21.)
A34: 30 | B34: 힐리월드코리아㈜ | C34: 17478156200 | D34: 13692247600 | E34: =C34-D34 -> 3785908600
A35: 31 | B35: 뉴유라이프코리아(유) | C35: 16763369000 | D35: 16518058000 | E35: =C35-D35 -> 245311000
A36: 32 | B36: ㈜지에스엘 | C36: 15489939653 | D36: 16901775042 | E36: =C36-D36 -> -1411835389
A37: 33 | B37: ㈜댄다코리아 | C37: 15417384510 | D37: 0 | E37: =C37-D37 -> 15417384510 | F37: 신규업체(2025.3.20.)
A38: 34 | B38: 경성제약㈜ | C38: 14414695000 | D38: 16473102229 | E38: =C38-D38 -> -2058407229
A39: 35 | B39: 토탈스위스코리아㈜ | C39: 14318760687 | D39: 14696428750 | E39: =C39-D39 -> -377668063
A40: 36 | B40: ㈜더클라세움 | C40: 13628639100 | D40: 0 | E40: =C40-D40 -> 13628639100 | F40: 신규업체(2025.3.21.)
A41: 37 | B41: 라이프웨이브코리아㈜ | C41: 13439218447 | D41: 35471701732 | E41: =C41-D41 -> -22032483285
A42: 38 | B42: ㈜퍼스트코리아 | C42: 12411706800 | D42: 14578443180 | E42: =C42-D42 -> -2166736380
A43: 39 | B43: ㈜더우리샵 | C43: 11790968052 | D43: 5533909564 | E43: =C43-D43 -> 6257058488
A44: 40 | B44: 엔티에이치인터내셔널㈜ | C44: 10860472730 | D44: 11458042263 | E44: =C44-D44 -> -597569533
A45: 41 | B45: 지쿱㈜ | C45: 9770278885 | D45: 1.2891584e+10 | E45: =C45-D45 -> -3.1213052e+09
A46: 42 | B46: ㈜리브퓨어코리아 | C46: 9547352360 | D46: 8654471510 | E46: =C46-D46 -> 892880850
A47: 43 | B47: ㈜루비셀 | C47: 9438564500 | D47: 14839375990 | E47: =C47-D47 -> -5400811490 | F47: (주)아프로존 → (주)루비셀 (2024.6.13.)
A48: 44 | B48: ㈜웰런스 | C48: 9291229025 | D48: 7573153011 | E48: =C48-D48 -> 1718076014
A49: 45 | B49: ㈜좋은효소 | C49: 9143522700 | D49: 14558450600 | E49: =C49-D49 -> -5414927900
A50: 46 | B50: ㈜피앤피글로벌 | C50: 9125957233 | D50: 4430734191 | E50: =C50-D50 -> 4695223042
A51: 47 | B51: 이젤피아㈜ | C51: 8394180078 | D51: 7257776844 | E51: =C51-D51 -> 1136403234 | F51: (주)키토윈 → (주) 이젤피아(2024.1.11) → 이젤피아(주)(2024.1.18.)
A52: 48 | B52: 와인코리아㈜ | C52: 7499915536 | D52: 7554262615 | E52: =C52-D52 -> -54347079
A53: 49 | B53: ㈜제이온 | C53: 6854277800 | D53: 8121893230 | E53: =C53-D53 -> -1267615430
A54: 50 | B54: ㈜유니앤코어 | C54: 6794750207 | D54: 11538313459 | E54: =C54-D54 -> -4743563252
A55: 51 | B55: 영리빙코리아(유) | C55: 6737848389 | D55: 6788854177 | E55: =C55-D55 -> -51005788
A56: 52 | B56: ㈜더올가 | C56: 6573509800 | D56: 5768115400 | E56: =C56-D56 -> 805394400
A57: 53 | B57: ㈜캘러리코리아 | C57: 5319909500 | D57: 6713953506 | E57: =C57-D57 -> -1394044006
A58: 54 | B58: ㈜매니스 | C58: 4768684320 | D58: 6230411370 | E58: =C58-D58 -> -1461727050
A59: 55 | B59: ㈜코타파 | C59: 4467792726 | D59: 8496544822 | E59: =C59-D59 -> -4028752096
A60: 56 | B60: ㈜팍스리테일 | C60: 4304249575 | D60: 0 | E60: =C60-D60 -> 4304249575 | F60: 신규업체(2025.3.18.)
A61: 57 | B61: ㈜젬마코리아 | C61: 4094526420 | D61: 7767238790 | E61: =C61-D61 -> -3672712370
A62: 58 | B62: 하담스㈜ | C62: 3963901659 | D62: 0 | E62: =C62-D62 -> 3963901659 | F62: 신규업체(2024.12.11)
A63: 59 | B63: ㈜미젤 | C63: 3491068221 | D63: 5124953233 | E63: =C63-D63 -> -1633885012
A64: 60 | B64: 아마레코리아㈜ | C64: 3464510831 | D64: 7620094639 | E64: =C64-D64 -> -4155583808 | F64: 카야니코리아 주식회사 → 아마레코리아 주식회사(2023.12.19.)
A65: 61 | B65: ㈜봄코리아 | C65: 3464087417 | D65: 6044999825 | E65: =C65-D65 -> -2580912408
A66: 62 | B66: ㈜에이치엘글로벌 | C66: 3319479025 | D66: 738172300 | E66: =C66-D66 -> 2581306725
A67: 63 | B67: ㈜디얼라이언스 | C67: 3307977063 | D67: 3708142098 | E67: =C67-D67 -> -400165035 | F67: ㈜우리커머스-->㈜디얼라이언스 (2024.9.19.)
A68: 64 | B68: ㈜씨엔뷰(CNView) | C68: 3163995980 | D68: 4300312700 | E68: =C68-D68 -> -1136316720
A69: 65 | B69: 파트너코코리아(유) | C69: 3112845870 | D69: 2472800450 | E69: =C69-D69 -> 640045420 | F69: 한국모린다유한회사 → 파트너코코리아유한회사(2023.11.20.)
A70: 66 | B70: ㈜오너 | C70: 3098225513 | D70: 1861356748 | E70: =C70-D70 -> 1236868765
A71: 67 | B71: 트루비코리아(유) | C71: 3052063211 | D71: 5323144509 | E71: =C71-D71 -> -2271081298 | F71: 트루비코리아유한회사→진지노코리아유한회사 (2026.5.11.)
A72: 68 | B72: ㈜셀플렉스 | C72: 3018175545 | D72: 3725465206 | E72: =C72-D72 -> -707289661 | F72: ㈜셀플렉스코리아→㈜셀플렉스 (2023.10.5.)
A73: 69 | B73: ㈜에스엔비아이 | C73: 2968886740 | D73: 1423157976 | E73: =C73-D73 -> 1545728764
A74: 70 | B74: 고려한백㈜ | C74: 2957559100 | D74: 3088013550 | E74: =C74-D74 -> -130454450
A75: 71 | B75: ㈜메타이십일글로벌 | C75: 2787742800 | D75: 0 | E75: =C75-D75 -> 2787742800 | F75: 신규업체(2024.9.6.)
A76: 72 | B76: ㈜루카스앤에스 | C76: 2729748413 | D76: 4415100538 | E76: =C76-D76 -> -1685352125
A77: 73 | B77: 메사얼라이언스그룹㈜ | C77: 2327844165 | D77: 4043268875 | E77: =C77-D77 -> -1715424710
A78: 74 | B78: ㈜그린피아코스메틱 | C78: 2071689377 | D78: 2381466775 | E78: =C78-D78 -> -309777398
A79: 75 | B79: ㈜엘바이오랩스 | C79: 2054295200 | D79: 0 | E79: =C79-D79 -> 2054295200 | F79: 신규업체(2025.6.26.)
A80: 76 | B80: 아오라파트너스(유) | C80: 1908218000 | D80: 8778758465 | E80: =C80-D80 -> -6870540465 | F80: 바이디자인코리아 유한회사→제이브이글로벌 유한회사 (2023.07.10)→한국프라이프 유한회사 (2025.09.25)→아오라 파트너스 유한회사 (2025.12.01)
A81: 77 | B81: ㈜더하나인 | C81: 1856339700 | D81: 1488174300 | E81: =C81-D81 -> 368165400
A82: 78 | B82: ㈜리퍼럴링크 | C82: 1746759944 | D82: 3128477763 | E82: =C82-D82 -> -1381717819 | F82: 퀀텀코스메틱→리퍼럴링크(2024.7.25)
A83: 79 | B83: 비즈월드코리아㈜ | C83: 1707563500 | D83: 2358405000 | E83: =C83-D83 -> -650841500
A84: 80 | B84: ㈜에이스원글로벌 | C84: 1672158414 | D84: 2105716226 | E84: =C84-D84 -> -433557812
A85: 81 | B85: ㈜미드밀 | C85: 1426457281 | D85: 496440054 | E85: =C85-D85 -> 930017227
A86: 82 | B86: (유)엑스인듀어런스코리아 | C86: 1384836200 | D86: 2657741286 | E86: =C86-D86 -> -1272905086
A87: 83 | B87: ㈜바라글로벌 | C87: 1325503000 | D87: 210434735 | E87: =C87-D87 -> 1115068265
A88: 84 | B88: 엘알헬스앤뷰티(유) | C88: 1321980688 | D88: 1108771166 | E88: =C88-D88 -> 213209522
A89: 85 | B89: 포에버코리아(유) | C89: 1296032710 | D89: 837814670 | E89: =C89-D89 -> 458218040
A90: 86 | B90: ㈜지티비코리아 | C90: 1256974409 | D90: 4702204650 | E90: =C90-D90 -> -3445230241 | F90: 큐탑바이오 주식회사→주식회사 지티비코리아 (2023.4.19.)
A91: 87 | B91: 뉴이미지헬스사이언스코리아(유) | C91: 1206007060 | D91: 54750300 | E91: =C91-D91 -> 1151256760
A92: 88 | B92: ㈜테라스타 | C92: 1048690433 | D92: 406563799 | E92: =C92-D92 -> 642126634 | F92: 주식회사 에이쓰리글로벌 → 주식회사 테라스타(Terrastar co.,Ltd)(2023.12.7.)
A93: 89 | B93: 뉴키㈜ | C93: 962037000 | D93: 1579485500 | E93: =C93-D93 -> -617448500
A94: 90 | B94: ㈜이레뷰티호텔 | C94: 813122431 | D94: 1244806280 | E94: =C94-D94 -> -431683849
A95: 91 | B95: ㈜파이메타 | C95: 783655455 | D95: 2682000 | E95: =C95-D95 -> 780973455 | F95: (주)메타웰코리아 → (주)파이메타(2025.2.4.)
A96: 92 | B96: 아이야유니온㈜ | C96: 741080490 | D96: 2584689476 | E96: =C96-D96 -> -1843608986 | F96: 엘에스피플(주)→아이야펫(주)(2023.8.3.변경) → 아이야유니온(주) (2024.1.3.)
A97: 93 | B97: ㈜지씨엔코리아 | C97: 710877382 | D97: 103968054 | E97: =C97-D97 -> 606909328 | F97: ㈜엔코네트 → ㈜지씨엔코리아(2025.1.13.)
A98: 94 | B98: 엔지엔㈜ | C98: 695128700 | D98: 47461802 | E98: =C98-D98 -> 647666898
A99: 95 | B99: ㈜바잘 | C99: 632139750 | D99: 677963327 | E99: =C99-D99 -> -45823577 | F99: (주)올네이처(2024.12.31)→(주)바잘(2025.1.1)
A100: 96 | B100: ㈜아이엠글로벌넷 | C100: 567609120 | D100: 2159425033 | E100: =C100-D100 -> -1591815913 | F100: (주)메디어스코리아→(주)아이엠글로벌넷(2024.3.13)
A101: 97 | B101: ㈜비더블유엘코리아 | C101: 492225000 | D101: 254987000 | E101: =C101-D101 -> 237238000
...

Sheet (별첨3) 후원수당 지급총액 현황
A1: <붙임 3>
A2: 2025년 후원수당 지급총액 현황
G3: (단위 : 원)
A4: 회 사 명 | C4: 2025년 | D4: 2024년 | E4: 증 감 | F4: 매출액 대비 | G4: 비 고
A5: 1 | B5: 한국암웨이㈜ | C5: 365296191632 | D5: 376047198295 | E5: =C5-D5 -> -10751006663 | F5: =C5/'(별첨2) 총 매출액 현황'!C5 -> 0.33154677
A6: 2 | B6: 애터미㈜ | C6: 276474050900 | D6: 299093837853 | E6: =C6-D6 -> -22619786953 | F6: =C6/'(별첨2) 총 매출액 현황'!C6 -> 0.34683868
A7: 3 | B7: 피엠인터내셔널코리아(유) | C7: 171389374232 | D7: 178111060003 | E7: =C7-D7 -> -6721685771 | F7: =C7/'(별첨2) 총 매출액 현황'!C7 -> 0.33228882
A8: 4 | B8: 유니시티코리아(유) | C8: 67394102995 | D8: 75274620864 | E8: =C8-D8 -> -7880517869 | F8: =C8/'(별첨2) 총 매출액 현황'!C8 -> 0.32379451
A9: 5 | B9: 뉴스킨코리아㈜ | C9: 70932898310 | D9: 82398123496 | E9: =C9-D9 -> -11465225186 | F9: =C9/'(별첨2) 총 매출액 현황'!C9 -> 0.3489368
A10: 6 | B10: ㈜리만코리아 | C10: 68669210370 | D10: 0 | E10: =C10-D10 -> 68669210370 | F10: =C10/'(별첨2) 총 매출액 현황'!C10 -> 0.34632224 | G10: 24.11.17. 다단계판매업 등록하였으며, 그 이전에는 후원방문판매업자로 등록
A11: 7 | B11: 한국허벌라이프㈜ | C11: 59960607598 | D11: 63550037705 | E11: =C11-D11 -> -3589430107 | F11: =C11/'(별첨2) 총 매출액 현황'!C11 -> 0.34951208
A12: 8 | B12: 유사나헬스사이언스코리아(유) | C12: 37366493915 | D12: 39584677321 | E12: =C12-D12 -> -2218183406 | F12: =C12/'(별첨2) 총 매출액 현황'!C12 -> 0.34866814
A13: 9 | B13: ㈜비아블 | C13: 31648246777 | D13: 27244609491 | E13: =C13-D13 -> 4403637286 | F13: =C13/'(별첨2) 총 매출액 현황'!C13 -> 0.34664882
A14: 10 | B14: ㈜카리스 | C14: 30053282597 | D14: 24164447380 | E14: =C14-D14 -> 5888835217 | F14: =C14/'(별첨2) 총 매출액 현황'!C14 -> 0.34612615
A15: 11 | B15: 시너지월드와이드코리아㈜ | C15: 21442917728 | D15: 21315838783 | E15: =C15-D15 -> 127078945 | F15: =C15/'(별첨2) 총 매출액 현황'!C15 -> 0.26620096
A16: 12 | B16: (유)매나테크코리아 | C16: 23109783354 | D16: 24441535942 | E16: =C16-D16 -> -1331752588 | F16: =C16/'(별첨2) 총 매출액 현황'!C16 -> 0.3387014
A17: 13 | B17: ㈜앤알커뮤니케이션 | C17: 20926171199 | D17: 17990941539 | E17: =C17-D17 -> 2935229660 | F17: =C17/'(별첨2) 총 매출액 현황'!C17 -> 0.32011236
A18: 14 | B18: 도테라코리아(유) | C18: 18960584799 | D18: 19554401135 | E18: =C18-D18 -> -593816336 | F18: =C18/'(별첨2) 총 매출액 현황'!C18 -> 0.34761054
A19: 15 | B19: 라라코리아인터내셔날㈜ | C19: 14436266188 | D19: 15144568982 | E19: =C19-D19 -> -708302794 | F19: =C19/'(별첨2) 총 매출액 현황'!C19 -> 0.34167673
A20: 16 | B20: ㈜하이리빙 | C20: 13387481490 | D20: 12550705328 | E20: =C20-D20 -> 836776162 | F20: =C20/'(별첨2) 총 매출액 현황'!C20 -> 0.34133944
A21: 17 | B21: ㈜엔잭타 | C21: 11580294605 | D21: 12016766125 | E21: =C21-D21 -> -436471520 | F21: =C21/'(별첨2) 총 매출액 현황'!C21 -> 0.32311586
A22: 18 | B22: ㈜굿모닝월드 | C22: 10071300824 | D22: 9795069496 | E22: =C22-D22 -> 276231328 | F22: =C22/'(별첨2) 총 매출액 현황'!C22 -> 0.32896611
... A24: 20 | B24: (유)포라이프리서치코리아 | C24: 9529006227 | D24: 8875648415 | E24: =C24-D24 -> 653357812 | F24: =C24/'(별첨2) 총 매출액 현황'!C24 -> 0.3364814
A25: 21 | B25: ㈜해밀리헬스 | C25: 9557299824 | D25: 8291122280 | E25: =C25-D25 -> 1266177544 | F25: =C25/'(별첨2) 총 매출액 현황'!C25 -> 0.34475787 | G25: 주식회사 이롬플러스 → 주식회사 이롬헬스케어(2025.1.15.) → 주식회사 라이프밀(2025.12.23.) → 주식회사 해밀리헬스(2026.2.9.)
A26: 22 | B26: 니오라코리아(유) | C26: 8007924334 | D26: 5342855777 | E26: =C26-D26 -> 2665068557 | F26: =C26/'(별첨2) 총 매출액 현황'!C26 -> 0.29575922 | G26: 에이씨앤코리아 유한회사→니오라코리아 유한회사(2025.1.2.)
A27: 23 | B27: ㈜인큐텐 | C27: 8028535444 | D27: 12452464587 | E27: =C27-D27 -> -4423929143 | F27: =C27/'(별첨2) 총 매출액 현황'!C27 -> 0.33628396
A28: 24 | B28: 앨트웰㈜ | C28: 5345252940 | D28: 6378838730 | E28: =C28-D28 -> -1033585790 | F28: =C28/'(별첨2) 총 매출액 현황'!C28 -> 0.23109274
A29: 25 | B29: ㈜프리즘인터내셔널 | C29: 6079840740 | D29: 8124323860 | E29: =C29-D29 -> -2044483120 | F29: =C29/'(별첨2) 총 매출액 현황'!C29 -> 0.27292181
A30: 26 | B30: 멜라루카인터내셔날코리아㈜ | C30: 6226670157 | D30: 7212587128 | E30: =C30-D30 -> -985916971 | F30: =C30/'(별첨2) 총 매출액 현황'!C30 -> 0.30866608
A31: 27 | B31: 썬라이더다이렉트코리아(유) | C31: 5854661275 | D31: 6307126049 | E31: =C31-D31 -> -452464774 | F31: =C31/'(별첨2) 총 매출액 현황'!C31 -> 0.31735272
A32: 28 | B32: ㈜투에버 | C32: 5737787672 | D32: 5553397017 | E32: =C32-D32 -> 184390655 | F32: =C32/'(별첨2) 총 매출액 현황'!C32 -> 0.32306103
A33: 29 | B33: ㈜교원헬스케어 | C33: 5953862252 | D33: 6569242961 | E33: =C33-D33 -> -615380709 | F33: =C33/'(별첨2) 총 매출액 현황'!C33 -> 0.33992947 | G33: (주)교원더오름 → (주)교원헬스케어(2024.4.21.)
A34: 30 | B34: 힐리월드코리아㈜ | C34: 6085692276 | D34: 4667923840 | E34: =C34-D34 -> 1417768436 | F34: =C34/'(별첨2) 총 매출액 현황'!C34 -> 0.34818846
A35: 31 | B35: 뉴유라이프코리아(유) | C35: 5349661257 | D35: 5368271422 | E35: =C35-D35 -> -18610165 | F35: =C35/'(별첨2) 총 매출액 현황'!C35 -> 0.31912805
A36: 32 | B36: ㈜지에스엘 | C36: 5903227884 | D36: 5892727022 | E36: =C36-D36 -> 10500862 | F36: =C36/'(별첨2) 총 매출액 현황'!C36 -> 0.38110077
A37: 33 | B37: ㈜댄다코리아 | C37: 4874934046 | D37: 0 | E37: =C37-D37 -> 4874934046 | F37: =C37/'(별첨2) 총 매출액 현황'!C37 -> 0.31619722 | G37: 신규업체(2025.3.20.)
A38: 34 | B38: 경성제약㈜ | C38: 4544315000 | D38: 4368516360 | E38: =C38-D38 -> 175798640 | F38: =C38/'(별첨2) 총 매출액 현황'!C38 -> 0.31525572
A39: 35 | B39: 토탈스위스코리아㈜ | C39: 4484591101 | D39: 3594279794 | E39: =C39-D39 -> 890311307 | F39: =C39/'(별첨2) 총 매출액 현황'!C39 -> 0.31319687
A40: 36 | B40: ㈜더클라세움 | C40: 4724484621 | D40: 0 | E40: =C40-D40 -> 4724484621 | F40: =C40/'(별첨2) 총 매출액 현황'!C40 -> 0.34665858 | G40: 신규업체(2025.3.21.)
A41: 37 | B41: 라이프웨이브코리아㈜ | C41: 4291662073 | D41: 12509101176 | E41: =C41-D41 -> -8217439103 | F41: =C41/'(별첨2) 총 매출액 현황'!C41 -> 0.31933866
A42: 38 | B42: ㈜퍼스트코리아 | C42: 4343185405 | D42: 5070110516 | E42: =C42-D42 -> -726925111 | F42: =C42/'(별첨2) 총 매출액 현황'!C42 -> 0.34992652
A43: 39 | B43: ㈜더우리샵 | C43: 3958946089 | D43: 1665976411 | E43: =C43-D43 -> 2292969678 | F43: =C43/'(별첨2) 총 매출액 현황'!C43 -> 0.3357609
A44: 40 | B44: 엔티에이치인터내셔널㈜ | C44: 3698076316 | D44: 3911669575 | E44: =C44-D44 -> -213593259 | F44: =C44/'(별첨2) 총 매출액 현황'!C44 -> 0.34050786
A45: 41 | B45: 지쿱㈜ | C45: 3373503850 | D45: 4482266518 | E45: =C45-D45 -> -1108762668 | F45: =C45/'(별첨2) 총 매출액 현황'!C45 -> 0.34528225
A46: 42 | B46: ㈜리브퓨어코리아 | C46: 3131900366 | D46: 2660502447 | E46: =C46-D46 -> 471397919 | F46: =C46/'(별첨2) 총 매출액 현황'!C46 -> 0.32803863
A47: 43 | B47: ㈜루비셀 | C47: 3288646147 | D47: 5103254460 | E47: =C47-D47 -> -1814608313 | F47: =C47/'(별첨2) 총 매출액 현황'!C47 -> 0.34842652 | G47: (주)아프로존 → (주)루비셀 (2024.6.13.)
A48: 44 | B48: ㈜웰런스 | C48: 3162218337 | D48: 2534285726 | E48: =C48-D48 -> 627932611 | F48: =C48/'(별첨2) 총 매출액 현황'!C48 -> 0.34034446
A49: 45 | B49: ㈜좋은효소 | C49: 3160200757 | D49: 5060755382 | E49: =C49-D49 -> -1900554625 | F49: =C49/'(별첨2) 총 매출액 현황'!C49 -> 0.3456218
A50: 46 | B50: ㈜피앤피글로벌 | C50: 2738590528 | D50: 1507990233 | E50: =C50-D50 -> 1230600295 | F50: =C50/'(별첨2) 총 매출액 현황'!C50 -> 0.30008803
A51: 47 | B51: 이젤피아㈜ | C51: 2581910207 | D51: 2449967081 | E51: =C51-D51 -> 131943126 | F51: =C51/'(별첨2) 총 매출액 현황'!C51 -> 0.30758337 | G51: (주)키토윈 → (주) 이젤피아(2024.1.11) → 이젤피아(주)(2024.1.18.)
A52: 48 | B52: 와인코리아㈜ | C52: 2596914263 | D52: 2368894319 | E52: =C52-D52 -> 228019944 | F52: =C52/'(별첨2) 총 매출액 현황'!C52 -> 0.34625913
A53: 49 | B53: ㈜제이온 | C53: 2216034806 | D53: 2807436846 | E53: =C53-D53 -> -591402040 | F53: =C53/'(별첨2) 총 매출액 현황'!C53 -> 0.32330683
A54: 50 | B54: ㈜유니앤코어 | C54: 2339292745 | D54: 3934488415 | E54: =C54-D54 -> -1595195670 | F54: =C54/'(별첨2) 총 매출액 현황'!C54 -> 0.34427943
A55: 51 | B55: 영리빙코리아(유) | C55: 2345076533 | D55: 2368925515 | E55: =C55-D55 -> -23848982 | F55: =C55/'(별첨2) 총 매출액 현황'!C55 -> 0.34804531
A56: 52 | B56: ㈜더올가 | C56: 1931809879 | D56: 1724736999 | E56: =C56-D56 -> 207072880 | F56: =C56/'(별첨2) 총 매출액 현황'!C56 -> 0.29387799
A57: 53 | B57: ㈜캘러리코리아 | C57: 1813301560 | D57: 2080977386 | E57: =C57-D57 -> -267675826 | F57: =C57/'(별첨2) 총 매출액 현황'!C57 -> 0.34085196
A58: 54 | B58: ㈜매니스 | C58: 1544039389 | D58: 2028862992 | E58: =C58-D58 -> -484823603 | F58: =C58/'(별첨2) 총 매출액 현황'!C58 -> 0.32378729
A59: 55 | B59: ㈜코타파 | C59: 1437925239 | D59: 2812186892 | E59: =C59-D59 -> -1374261653 | F59: =C59/'(별첨2) 총 매출액 현황'!C59 -> 0.32184242
A60: 56 | B60: ㈜팍스리테일 | C60: 1859949734 | D60: 0 | E60: =C60-D60 -> 1859949734 | F60: =C60/'(별첨2) 총 매출액 현황'!C60 -> 0.4321194 | G60: 신규업체(2025.3.18.)
A61: 57 | B61: ㈜젬마코리아 | C61: 1115837456 | D61: 2417849304 | E61: =C61-D61 -> -1302011848 | F61: =C61/'(별첨2) 총 매출액 현황'!C61 -> 0.2725193
A62: 58 | B62: 하담스㈜ | C62: 1353322868 | D62: 0 | E62: =C62-D62 -> 1353322868 | F62: =C62/'(별첨2) 총 매출액 현황'!C62 -> 0.34141182 | G62: 신규업체(2024.12.11)
A63: 59 | B63: ㈜미젤 | C63: 1190521666 | D63: 1762757958 | E63: =C63-D63 -> -572236292 | F63: =C63/'(별첨2) 총 매출액 현황'!C63 -> 0.34101931
A64: 60 | B64: 아마레코리아㈜ | C64: 969079175 | D64: 2611912459 | E64: =C64-D64 -> -1642833284 | F64: =C64/'(별첨2) 총 매출액 현황'!C64 -> 0.27971602 | G64: 카야니코리아 주식회사 → 아마레코리아 주식회사(2023.12.19.)
A65: 61 | B65: ㈜봄코리아 | C65: 1166593476 | D65: 2036836410 | E65: =C65-D65 -> -870242934 | F65: =C65/'(별첨2) 총 매출액 현황'!C65 -> 0.33676791
A66: 62 | B66: ㈜에이치엘글로벌 | C66: 1152197090 | D66: 254035141 | E66: =C66-D66 -> 898161949 | F66: =C66/'(별첨2) 총 매출액 현황'!C66 -> 0.34710178
A67: 63 | B67: ㈜디얼라이언스 | C67: 1153331147 | D67: 1109821264 | E67: =C67-D67 -> 43509883 | F67: =C67/'(별첨2) 총 매출액 현황'!C67 -> 0.34865149 | G67: ㈜우리커머스-->㈜디얼라이언스 (2024.9.19.)
A68: 64 | B68: ㈜씨엔뷰(CNView) | C68: 970334911 | D68: 1478891225 | E68: =C68-D68 -> -508556314 | F68: =C68/'(별첨2) 총 매출액 현황'!C68 -> 0.3066802
A69: 65 | B69: 파트너코코리아(유) | C69: 1033393101 | D69: 774567200 | E69: =C69-D69 -> 258825901 | F69: =C69/'(별첨2) 총 매출액 현황'!C69 -> 0.33197696 | G69: 한국모린다유한회사 → 파트너코코리아유한회사(2023.11.20.)
A70: 66 | B70: ㈜오너 | C70: 1070595500 | D70: 576186660 | E70: =C70-D70 -> 494408840 | F70: =C70/'(별첨2) 총 매출액 현황'!C70 -> 0.34555119
A71: 67 | B71: 트루비코리아(유) | C71: 1016565298 | D71: 1745057187 | E71: =C71-D71 -> -728491889 | F71: =C71/'(별첨2) 총 매출액 현황'!C71 -> 0.33307479 | G71: 트루비코리아유한회사→진지노코리아유한회사 (2026.5.11.)
A72: 68 | B72: ㈜셀플렉스 | C72: 1038740555 | D72: 1261659146 | E72: =C72-D72 -> -222918591 | F72: =C72/'(별첨2) 총 매출액 현황'!C72 -> 0.34416174 | G72: ㈜셀플렉스코리아→㈜셀플렉스 (2023.10.5.)
A73: 69 | B73: ㈜에스엔비아이 | C73: 744402600 | D73: 153175700 | E73: =C73-D73 -> 591226900 | F73: =C73/'(별첨2) 총 매출액 현황'!C73 -> 0.25073459
A74: 70 | B74: 고려한백㈜ | C74: 805648179 | D74: 694781609 | E74: =C74-D74 -> 110866570 | F74: =C74/'(별첨2) 총 매출액 현황'!C74 -> 0.27240307
A75: 71 | B75: ㈜메타이십일글로벌 | C75: 966802816 | D75: 0 | E75: =C75-D75 -> 966802816 | F75: =C75/'(별첨2) 총 매출액 현황'!C75 -> 0.34680488 | G75: 신규업체(2024.9.6.)
A76: 72 | B76: ㈜루카스앤에스 | C76: 896549440 | D76: 1435327718 | E76: =C76-D76 -> -538778278 | F76: =C76/'(별첨2) 총 매출액 현황'!C76 -> 0.32843666
A77: 73 | B77: 메사얼라이언스그룹㈜ | C77: 735558250 | D77: 1282041360 | E77: =C77-D77 -> -546483110 | F77: =C77/'(별첨2) 총 매출액 현황'!C77 -> 0.3159826
A78: 74 | B78: ㈜그린피아코스메틱 | C78: 463282742 | D78: 565919616 | E78: =C78-D78 -> -102636874 | F78: =C78/'(별첨2) 총 매출액 현황'!C78 -> 0.22362558
A79: 75 | B79: ㈜엘바이오랩스 | C79: 708927730 | D79: 0 | E79: =C79-D79 -> 708927730 | F79: =C79/'(별첨2) 총 매출액 현황'!C79 -> 0.34509535 | G79: 신규업체(2025.6.26.)
A80: 76 | B80: 아오라파트너스(유) | C80: 579126605 | D80: 3030573171 | E80: =C80-D80 -> -2451446566 | F80: =C80/'(별첨2) 총 매출액 현황'!C80 -> 0.3034908 | G80: 바이디자인코리아 유한회사→제이브이글로벌 유한회사 (2023.07.10)→한국프라이프 유한회사 (2025.09.25)→아오라 파트너스 유한회사 (2025.12.01)
A81: 77 | B81: ㈜더하나인 | C81: 618538710 | D81: 509837560 | E81: =C81-D81 -> 108701150 | F81: =C81/'(별첨2) 총 매출액 현황'!C81 -> 0.33320341
A82: 78 | B82: ㈜리퍼럴링크 | C82: 553174134 | D82: 958114589 | E82: =C82-D82 -> -404940455 | F82: =C82/'(별첨2) 총 매출액 현황'!C82 -> 0.31668584 | G82: 퀀텀코스메틱→리퍼럴링크(2024.7.25)
A83: 79 | B83: 비즈월드코리아㈜ | C83: 585725785 | D83: 796756861 | E83: =C83-D83 -> -211031076 | F83: =C83/'(별첨2) 총 매출액 현황'!C83 -> 0.34301845
A84: 80 | B84: ㈜에이스원글로벌 | C84: 578975055 | D84: 730945356 | E84: =C84-D84 -> -151970301 | F84: =C84/'(별첨2) 총 매출액 현황'!C84 -> 0.34624414
A85: 81 | B85: ㈜미드밀 | C85: 227784282 | D85: 16484020 | E85: =C85-D85 -> 211300262 | F85: =C85/'(별첨2) 총 매출액 현황'!C85 -> 0.15968532
A86: 82 | B86: (유)엑스인듀어런스코리아 | C86: 464447530 | D86: 821293465 | E86: =C86-D86 -> -356845935 | F86: =C86/'(별첨2) 총 매출액 현황'!C86 -> 0.33538084
A87: 83 | B87: ㈜바라글로벌 | C87: 166978101 | D87: 70658533 | E87: =C87-D87 -> 96319568 | F87: =C87/'(별첨2) 총 매출액 현황'!C87 -> 0.12597339
A88: 84 | B88: 엘알헬스앤뷰티(유) | C88: 380948878 | D88: 334611178 | E88: =C88-D88 -> 46337700 | F88: =C88/'(별첨2) 총 매출액 현황'!C88 -> 0.28816524
A89: 85 | B89: 포에버코리아(유) | C89: 341163597 | D89: 240955711 | E89: =C89-D89 -> 100207886 | F89: =C89/'(별첨2) 총 매출액 현황'!C89 -> 0.26323687
A90: 86 | B90: ㈜지티비코리아 | C90: 379335730 | D90: 1616440720 | E90: =C90-D90 -> -1237104990 | F90: =C90/'(별첨2) 총 매출액 현황'!C90 -> 0.30178477 | G90: 큐탑바이오 주식회사→주식회사 지티비코리아 (2023.4.19.)
A91: 87 | B91: 뉴이미지헬스사이언스코리아(유) | C91: 405874199 | D91: 9508498 | E91: =C91-D91 -> 396365701 | F91: =C91/'(별첨2) 총 매출액 현황'!C91 -> 0.3365438
A92: 88 | B92: ㈜테라스타 | C92: 336586656 | D92: 67057976 | E92: =C92-D92 -> 269528680 | F92: =C92/'(별첨2) 총 매출액 현황'!C92 -> 0.32095902 | G92: 주식회사 에이쓰리글로벌 → 주식회사 테라스타(Terrastar co.,Ltd)(2023.12.7.)
A93: 89 | B93: 뉴키㈜ | C93: 315295625 | D93: 506424750 | E93: =C93-D93 -> -191129125 | F93: =C93/'(별첨2) 총 매출액 현황'!C93 -> 0.32773752
A94: 90 | B94: ㈜이레뷰티호텔 | C94: 164485702 | D94: 351756830 | E94: =C94-D94 -> -187271128 | F94: =C94/'(별첨2) 총 매출액 현황'!C94 -> 0.20228897
A95: 91 | B95: ㈜파이메타 | C95: 196238452 | D95: 118361 | E95: =C95-D95 -> 196120091 | F95: =C95/'(별첨2) 총 매출액 현황'!C95 -> 0.2504142 | G95: (주)메타웰코리아 → (주)파이메타(2025.2.4.)
A96: 92 | B96: 아이야유니온㈜ | C96: 231773312 | D96: 875377968 | E96: =C96-D96 -> -643604656 | F96: =C96/'(별첨2) 총 매출액 현황'!C96 -> 0.31275052 | G96: 엘에스피플(주)→아이야펫(주)(2023.8.3.변경) → 아이야유니온(주) (2024.1.3.)
A97: 93 | B97: ㈜지씨엔코리아 | C97: 153887440 | D97: 20588761 | E97: =C97-D97 -> 133298679 | F97: =C97/'(별첨2) 총 매출액 현황'!C97 -> 0.21647536 | G97: ㈜엔코네트 → ㈜지씨엔코리아(2025.1.13.)
A98: 94 | B98: 엔지엔㈜ | C98: 187670615 | D98: 12982783 | E98: =C98-D98 -> 174687832 | F98: =C98/'(별첨2) 총 매출액 현황'!C98 -> 0.26997967
A99: 95 | B99: ㈜바잘 | C99: 216315118 | D99: 236381970 | E99: =C99-D99 -> -20066852 | F99: =C99/'(별첨2) 총 매출액 현황'!C99 -> 0.34219509 | G99: (주)올네이처(2024.12.31)→(주)바잘(2025.1.1)
A100: 96 | B100: ㈜아이엠글로벌넷 | C100: 113345695 | D100: 743143119 | E100: =C100-D100 -> -629797424 | F100: =C100/'(별첨2) 총 매출액 현황'!C100 -> 0.1996897 | G100: (주)메디어스코리아→(주)아이엠글로벌넷(2024.3.13)
A101: 97 | B101: ㈜비더블유엘코리아 | C101: 164088573 | D101: 85570408 | E101: =C101-D101 -> 78518165 | F101: =C101/'(별첨2) 총 매출액 현황'!C101 -> 0.33336091
...

Sheet (별첨4) 후원수당 지급분포도(상위 1% 미만 판매원)
A1: <붙임 4>
A2: 2025년 후원수당 지급분포도(상위 1% 미만 판매원)
I3: (단위: 명, 원)
A4: 회 사 명 | C4: 2025년 | F4: 2024년 | I4: 평균지급액 증감 | J4: 비고
C5: 판매원수(1%) | D5: 지급금액 | E5: 1인당평균지급액 | F5: 판매원수(1%) | G5: 지급금액 | H5: 1인당평균지급액
A6: 1 | B6: 한국암웨이㈜ | C6: 3040 | D6: 221308866204 | E6: =D6/C6 -> 72798969 | F6: 3238 | G6: 229934930252 | H6: =G6/F6 -> 71011405 | I6: =E6-H6 -> 1787563.9
A7: 2 | B7: 애터미㈜ | C7: 3188 | D7: 173799867240 | E7: =D7/C7 -> 54516897 | F7: 3364 | G7: 183812044363 | H7: =G7/F7 -> 54640917 | I7: =E7-H7 -> -124020
A8: 3 | B8: 피엠인터내셔널코리아(유) | C8: 1120 | D8: 80748719138 | E8: =D8/C8 -> 72097071 | F8: 1181 | G8: 86192275037 | H8: =G8/F8 -> 72982451 | I8: =E8-H8 -> -885380.68
A9: 4 | B9: 유니시티코리아(유) | C9: 518 | D9: 33060667573 | E9: =D9/C9 -> 63823683 | F9: 582 | G9: 35069557412 | H9: =G9/F9 -> 60256971 | I9: =E9-H9 -> 3566711.1
A10: 5 | B10: 뉴스킨코리아㈜ | C10: 234 | D10: 32740896282 | E10: =D10/C10 -> 1.3991836e+08 | F10: 314 | G10: 36796662909 | H10: =G10/F10 -> 1.1718682e+08 | I10: =E10-H10 -> 22731536
A11: 6 | B11: ㈜리만코리아 | C11: 389 | D11: 36508665073 | E11: =D11/C11 -> 93852609 | F11: 0 | G11: 0 | H11: 0 | I11: =E11-H11 -> 93852609 | J11: 24.11.17. 다단계판매업 등록하였으며, 그 이전에는 후원방문판매업자로 등록
A12: 7 | B12: 한국허벌라이프㈜ | C12: 250 | D12: 34562675812 | E12: =D12/C12 -> 1.382507e+08 | F12: 249 | G12: 36074406421 | H12: =G12/F12 -> 1.4487713e+08 | I12: =E12-H12 -> -6626431
A13: 8 | B13: 유사나헬스사이언스코리아(유) | C13: 103 | D13: 17562072256 | E13: =D13/C13 -> 1.7050556e+08 | F13: 115 | G13: 18665576444 | H13: =G13/F13 -> 1.6230936e+08 | I13: =E13-H13 -> 8196195.5
A14: 9 | B14: ㈜비아블 | C14: 169 | D14: 18199621671 | E14: =D14/C14 -> 1.0769007e+08 | F14: 151 | G14: 15512603985 | H14: =G14/F14 -> 1.0273248e+08 | I14: =E14-H14 -> 4957592.3
A15: 10 | B15: ㈜카리스 | C15: 23 | D15: 13590834835 | E15: =D15/C15 -> 5.9090586e+08 | F15: 33 | G15: 12262859366 | H15: =G15/F15 -> 3.716018e+08 | I15: =E15-H15 -> 2.1930406e+08
A16: 11 | B16: 시너지월드와이드코리아㈜ | C16: 85 | D16: 10661605251 | E16: =D16/C16 -> 1.2543065e+08 | F16: 89 | G16: 11651626679 | H16: =G16/F16 -> 1.3091715e+08 | I16: =E16-H16 -> -5486503.7
A17: 12 | B17: (유)매나테크코리아 | C17: 53 | D17: 8810762817 | E17: =D17/C17 -> 1.6624081e+08 | F17: 63 | G17: 9700108048 | H17: =G17/F17 -> 1.5396997e+08 | I17: =E17-H17 -> 12270839
A18: 13 | B18: ㈜앤알커뮤니케이션 | C18: 100 | D18: 9412584140 | E18: =D18/C18 -> 94125841 | F18: 99 | G18: 8440428582 | H18: =G18/F18 -> 85256854 | I18: =E18-H18 -> 8868987
A19: 14 | B19: 도테라코리아(유) | C19: 64 | D19: 8261827079 | E19: =D19/C19 -> 1.2909105e+08 | F19: 86 | G19: 9761290068 | H19: =G19/F19 -> 1.1350337e+08 | I19: =E19-H19 -> 15587675
A20: 15 | B20: 라라코리아인터내셔날㈜ | C20: 110 | D20: 7288998838 | E20: =D20/C20 -> 66263626 | F20: 131 | G20: 7063827548 | H20: =G20/F20 -> 53922348 | I20: =E20-H20 -> 12341278
A21: 16 | B21: ㈜하이리빙 | C21: 113 | D21: 8349930663 | E21: =D21/C21 -> 73893192 | F21: 210 | G21: 8953914823 | H21: =G21/F21 -> 42637690 | I21: =E21-H21 -> 31255502
A22: 17 | B22: ㈜엔잭타 | C22: 42 | D22: 5046462960 | E22: =D22/C22 -> 120153880 | F22: 44 | G22: 5084826070 | H22: =G22/F22 -> 1.1556423e+08 | I22: =E22-H22 -> 4589651.1
A23: 18 | B23: ㈜굿모닝월드 | C23: 53 | D23: 4873888112 | E23: =D23/C23 -> 91960153 | F23: 56 | G23: 4768941448 | H23: =G23/F23 -> 85159669 | I23: =E23-H23 -> 6800484.3
... A25: 20 | B25: (유)포라이프리서치코리아 | C25: 37 | D25: 3480999555 | E25: =D25/C25 -> 94081069 | F25: 38 | G25: 3098994055 | H25: =G25/F25 -> 81552475 | I25: =E25-H25 -> 12528594
A26: 21 | B26: ㈜해밀리헬스 | C26: 72 | D26: 5820904939 | E26: =D26/C26 -> 80845902 | F26: 41 | G26: 4530531750 | H26: =G26/F26 -> 1.1050077e+08 | I26: =E26-H26 -> -29654872 | J26: 주식회사 이롬플러스 → 주식회사 이롬헬스케어(2025.1.15.) → 주식회사 라이프밀(2025.12.23.) → 주식회사 해밀리헬스(2026.2.9.)
A27: 22 | B27: 니오라코리아(유) | C27: 27 | D27: 3018637573 | E27: =D27/C27 -> 1.1180139e+08 | F27: 47 | G27: 2485167897 | H27: =G27/F27 -> 52875913 | I27: =E27-H27 -> 58925479 | J27: 에이씨앤코리아 유한회사→니오라코리아 유한회사(2025.1.2.)
A28: 23 | B28: ㈜인큐텐 | C28: 54 | D28: 4442294994 | E28: =D28/C28 -> 82264722 | F28: 74 | G28: 6107059222 | H28: =G28/F28 -> 82527827 | I28: =E28-H28 -> -263105.21
A29: 24 | B29: 앨트웰㈜ | C29: 28 | D29: 2154536620 | E29: =D29/C29 -> 76947736 | F29: 33 | G29: 2786310610 | H29: =G29/F29 -> 84433655 | I29: =E29-H29 -> -7485918.4
A30: 25 | B30: ㈜프리즘인터내셔널 | C30: 12 | D30: 1952828790 | E30: =D30/C30 -> 1.6273573e+08 | F30: 15 | G30: 2487948433 | H30: =G30/F30 -> 1.6586323e+08 | I30: =E30-H30 -> -3127496.4
A31: 26 | B31: 멜라루카인터내셔날코리아㈜ | C31: 40 | D31: 2676107612 | E31: =D31/C31 -> 66902690 | F31: 34 | G31: 2542338745 | H31: =G31/F31 -> 74774669 | I31: =E31-H31 -> -7871978.7
A32: 27 | B32: 썬라이더다이렉트코리아(유) | C32: 18 | D32: 2535167735 | E32: =D32/C32 -> 1.4084265e+08 | F32: 25 | G32: 2867639864 | H32: =G32/F32 -> 1.1470559e+08 | I32: =E32-H32 -> 26137057
A33: 28 | B33: ㈜투에버 | C33: 14 | D33: 1743897637 | E33: =D33/C33 -> 1.2456412e+08 | F33: 27 | G33: 2346502753 | H33: =G33/F33 -> 86907509 | I33: =E33-H33 -> 37656608
A34: 29 | B34: ㈜교원헬스케어 | C34: 39 | D34: 2473958805 | E34: =D34/C34 -> 63434841 | F34: 47 | G34: 2888043337 | H34: =G34/F34 -> 61447731 | I34: =E34-H34 -> 1987110.6 | J34: (주)교원더오름 → (주)교원헬스케어(2024.4.21.)
A35: 30 | B35: 힐리월드코리아㈜ | C35: 16 | D35: 1742843161 | E35: =D35/C35 -> 1.089277e+08 | F35: 17 | G35: 1424415320 | H35: =G35/F35 -> 83789136 | I35: =E35-H35 -> 25138561
A36: 31 | B36: 뉴유라이프코리아(유) | C36: 20 | D36: 2693805910 | E36: =D36/C36 -> 1.346903e+08 | F36: 22 | G36: 2880087264 | H36: =G36/F36 -> 1.3091306e+08 | I36: =E36-H36 -> 3777238
A37: 32 | B37: ㈜지에스엘 | C37: 32 | D37: 2762355020 | E37: =D37/C37 -> 86323594 | F37: 42 | G37: 3064470605 | H37: =G37/F37 -> 72963586 | I37: =E37-H37 -> 13360009
A38: 33 | B38: ㈜댄다코리아 | C38: 82 | D38: 3248088374 | E38: =D38/C38 -> 39610834 | F38: 0 | G38: 0 | H38: 0 | I38: =E38-H38 -> 39610834 | J38: 신규업체(2025.3.20.)
A39: 34 | B39: 경성제약㈜ | C39: 37 | D39: 1945856990 | E39: =D39/C39 -> 52590729 | F39: 32 | G39: 1943161360 | H39: =G39/F39 -> 60723792 | I39: =E39-H39 -> -8133063
A40: 35 | B40: 토탈스위스코리아㈜ | C40: 16 | D40: 1281497433 | E40: =D40/C40 -> 80093590 | F40: 25 | G40: 1274654824 | H40: =G40/F40 -> 50986193 | I40: =E40-H40 -> 29107397
A41: 36 | B41: ㈜더클라세움 | C41: 53 | D41: 1947493283 | E41: =D41/C41 -> 36745156 | F41: 0 | G41: 0 | H41: 0 | I41: =E41-H41 -> 36745156 | J41: 신규업체(2025.3.21.)
A42: 37 | B42: 라이프웨이브코리아㈜ | C42: 23 | D42: 1228159196 | E42: =D42/C42 -> 53398226 | F42: 76 | G42: 5399895163 | H42: =G42/F42 -> 71051252 | I42: =E42-H42 -> -17653026
A43: 38 | B43: ㈜퍼스트코리아 | C43: 10 | D43: 1695126029 | E43: =D43/C43 -> 1.695126e+08 | F43: 10 | G43: 2231195137 | H43: =G43/F43 -> 2.2311951e+08 | I43: =E43-H43 -> -53606911
A44: 39 | B44: ㈜더우리샵 | C44: 71 | D44: 2077350611 | E44: =D44/C44 -> 29258459 | F44: 54 | G44: 852282249 | H44: =G44/F44 -> 15783005 | I44: =E44-H44 -> 13475455
A45: 40 | B45: 엔티에이치인터내셔널㈜ | C45: 23 | D45: 949203209 | E45: =D45/C45 -> 41269705 | F45: 24 | G45: 994649510 | H45: =G45/F45 -> 41443730 | I45: =E45-H45 -> -174024.84
A46: 41 | B46: 지쿱㈜ | C46: 36 | D46: 1717018500 | E46: =D46/C46 -> 47694958 | F46: 60 | G46: 2811107085 | H46: =G46/F46 -> 46851785 | I46: =E46-H46 -> 843173.58
A47: 42 | B47: ㈜리브퓨어코리아 | C47: 8 | D47: 1089198258 | E47: =D47/C47 -> 1.3614978e+08 | F47: 7 | G47: 843970360 | H47: =G47/F47 -> 1.2056719e+08 | I47: =E47-H47 -> 15582588
A48: 43 | B48: ㈜루비셀 | C48: 25 | D48: 1647416990 | E48: =D48/C48 -> 65896680 | F48: 40 | G48: 3114630490 | H48: =G48/F48 -> 77865762 | I48: =E48-H48 -> -11969083 | J48: (주)아프로존 → (주)루비셀 (2024.6.13.)
A49: 44 | B49: ㈜웰런스 | C49: 15 | D49: 863515559 | E49: =D49/C49 -> 57567704 | F49: 12 | G49: 720438223 | H49: =G49/F49 -> 60036519 | I49: =E49-H49 -> -2468814.7
A50: 45 | B50: ㈜좋은효소 | C50: 3 | D50: 666059047 | E50: =D50/C50 -> 2.2201968e+08 | F50: 5 | G50: 1096084227 | H50: =G50/F50 -> 2.1921685e+08 | I50: =E50-H50 -> 2802836.9
A51: 46 | B51: ㈜피앤피글로벌 | C51: 9 | D51: 668579070 | E51: =D51/C51 -> 74286563 | F51: 10 | G51: 497667010 | H51: =G51/F51 -> 49766701 | I51: =E51-H51 -> 24519862
A52: 47 | B52: 이젤피아㈜ | C52: 18 | D52: 1438016756 | E52: =D52/C52 -> 79889820 | F52: 16 | G52: 1294613270 | H52: =G52/F52 -> 80913329 | I52: =E52-H52 -> -1023509.6 | J52: (주)키토윈 → (주) 이젤피아(2024.1.11) → 이젤피아(주)(2024.1.18.)
A53: 48 | B53: 와인코리아㈜ | C53: 17 | D53: 1001549527 | E53: =D53/C53 -> 58914678 | F53: 19 | G53: 1017273819 | H53: =G53/F53 -> 53540727 | I53: =E53-H53 -> 5373950.7
A54: 49 | B54: ㈜제이온 | C54: 26 | D54: 1147512458 | E54: =D54/C54 -> 44135095 | F54: 17 | G54: 1323581182 | H54: =G54/F54 -> 77857717 | I54: =E54-H54 -> -33722622
A55: 50 | B55: ㈜유니앤코어 | C55: 18 | D55: 814881100 | E55: =D55/C55 -> 45271172 | F55: 31 | G55: 1095936120 | H55: =G55/F55 -> 35352778 | I55: =E55-H55 -> 9918394.2
A56: 51 | B56: 영리빙코리아(유) | C56: 16 | D56: 971624747 | E56: =D56/C56 -> 60726547 | F56: 13 | G56: 699126251 | H56: =G56/F56 -> 53778942 | I56: =E56-H56 -> 6947604.3
A57: 52 | B57: ㈜더올가 | C57: 7 | D57: 831199911 | E57: =D57/C57 -> 1.1874284e+08 | F57: 7 | G57: 863671281 | H57: =G57/F57 -> 1.2338161e+08 | I57: =E57-H57 -> -4638767.1
A58: 53 | B58: ㈜캘러리코리아 | C58: 13 | D58: 588736196 | E58: =D58/C58 -> 45287400 | F58: 36 | G58: 846027010 | H58: =G58/F58 -> 23500750 | I58: =E58-H58 -> 21786649
A59: 54 | B59: ㈜매니스 | C59: 15 | D59: 473019021 | E59: =D59/C59 -> 31534601 | F59: 17 | G59: 662699963 | H59: =G59/F59 -> 38982351 | I59: =E59-H59 -> -7447749.4
A60: 55 | B60: ㈜코타파 | C60: 2 | D60: 504273746 | E60: =D60/C60 -> 252136873 | F60: 3 | G60: 1104990658 | H60: =G60/F60 -> 3.6833022e+08 | I60: =E60-H60 -> -1.1619335e+08
A61: 56 | B61: ㈜팍스리테일 | C61: 25 | D61: 926747847 | E61: =D61/C61 -> 37069914 | F61: 0 | G61: 0 | H61: 0 | I61: =E61-H61 -> 37069914 | J61: 신규업체(2025.3.18.)
A62: 57 | B62: ㈜젬마코리아 | C62: 27 | D62: 697238773 | E62: =D62/C62 -> 25823658 | F62: 36 | G62: 1361388117 | H62: =G62/F62 -> 37816337 | I62: =E62-H62 -> -11992678
A63: 58 | B63: 하담스㈜ | C63: 5 | D63: 487530232 | E63: =D63/C63 -> 97506046 | F63: 0 | G63: 0 | H63: 0 | I63: =E63-H63 -> 97506046 | J63: 신규업체(2024.12.11)
A64: 59 | B64: ㈜미젤 | C64: 2 | D64: 168484228 | E64: =D64/C64 -> 84242114 | F64: 2 | G64: 252399251 | H64: =G64/F64 -> 1.2619963e+08 | I64: =E64-H64 -> -41957512
A65: 60 | B65: 아마레코리아㈜ | C65: 4 | D65: 294789892 | E65: =D65/C65 -> 73697473 | F65: 11 | G65: 517823446 | H65: =G65/F65 -> 47074859 | I65: =E65-H65 -> 26622614 | J65: 카야니코리아 주식회사 → 아마레코리아 주식회사(2023.12.19.)
A66: 61 | B66: ㈜봄코리아 | C66: 23 | D66: 696126625 | E66: =D66/C66 -> 30266375 | F66: 36 | G66: 1407664753 | H66: =G66/F66 -> 39101799 | I66: =E66-H66 -> -8835423.7
A67: 62 | B67: ㈜에이치엘글로벌 | C67: 13 | D67: 633839170 | E67: =D67/C67 -> 48756859 | F67: 3 | G67: 66579255 | H67: =G67/F67 -> 22193085 | I67: =E67-H67 -> 26563774
A68: 63 | B68: ㈜디얼라이언스 | C68: 22 | D68: 494400903 | E68: =D68/C68 -> 22472768 | F68: 31 | G68: 533250944 | H68: =G68/F68 -> 17201643 | I68: =E68-H68 -> 5271125 | J68: ㈜우리커머스-->㈜디얼라이언스 (2024.9.19.)
A69: 64 | B69: ㈜씨엔뷰(CNView) | C69: 9 | D69: 323507597 | E69: =D69/C69 -> 35945289 | F69: 13 | G69: 893220541 | H69: =G69/F69 -> 68709272 | I69: =E69-H69 -> -32763984
A70: 65 | B70: 파트너코코리아(유) | C70: 4 | D70: 272184607 | E70: =D70/C70 -> 68046152 | F70: 4 | G70: 184795644 | H70: =G70/F70 -> 46198911 | I70: =E70-H70 -> 21847241 | J70: 한국모린다유한회사 → 파트너코코리아유한회사(2023.11.20.)
A71: 66 | B71: ㈜오너 | C71: 6 | D71: 270224930 | E71: =D71/C71 -> 45037488 | F71: 4 | G71: 149774990 | H71: =G71/F71 -> 37443748 | I71: =E71-H71 -> 7593740.8
A72: 67 | B72: 트루비코리아(유) | C72: 4 | D72: 251681480 | E72: =D72/C72 -> 62920370 | F72: 8 | G72: 690891020 | H72: =G72/F72 -> 86361378 | I72: =E72-H72 -> -23441008 | J72: 트루비코리아유한회사→진지노코리아유한회사 (2026.5.11.)
A73: 68 | B73: ㈜셀플렉스 | C73: 9 | D73: 433992255 | E73: =D73/C73 -> 48221362 | F73: 7 | G73: 437662723 | H73: =G73/F73 -> 62523246 | I73: =E73-H73 -> -14301884 | J73: ㈜셀플렉스코리아→㈜셀플렉스 (2023.10.5.)
A74: 69 | B74: ㈜에스엔비아이 | C74: 10 | D74: 217751900 | E74: =D74/C74 -> 21775190 | F74: 18 | G74: 14514600 | H74: =G74/F74 -> 806366.67 | I74: =E74-H74 -> 20968823
A75: 70 | B75: 고려한백㈜ | C75: 10 | D75: 225659737 | E75: =D75/C75 -> 22565974 | F75: 9 | G75: 184045157 | H75: =G75/F75 -> 20449462 | I75: =E75-H75 -> 2116511.8
A76: 71 | B76: ㈜메타이십일글로벌 | C76: 3 | D76: 243451616 | E76: =D76/C76 -> 81150539 | F76: 0 | G76: 0 | H76: 0 | I76: =E76-H76 -> 81150539 | J76: 신규업체(2024.9.6.)
A77: 72 | B77: ㈜루카스앤에스 | C77: 5 | D77: 317054030 | E77: =D77/C77 -> 63410806 | F77: 4 | G77: 424366896 | H77: =G77/F77 -> 106091724 | I77: =E77-H77 -> -42680918
A78: 73 | B78: 메사얼라이언스그룹㈜ | C78: 3 | D78: 242700920 | E78: =D78/C78 -> 80900307 | F78: 5 | G78: 618417550 | H78: =G78/F78 -> 123683510 | I78: =E78-H78 -> -42783203
A79: 74 | B79: ㈜그린피아코스메틱 | C79: 14 | D79: 200252635 | E79: =D79/C79 -> 14303760 | F79: 14 | G79: 234348857 | H79: =G79/F79 -> 16739204 | I79: =E79-H79 -> -2435444.4
A80: 75 | B80: ㈜엘바이오랩스 | C80: 2 | D80: 123785200 | E80: =D80/C80 -> 61892600 | F80: 0 | G80: 0 | H80: 0 | I80: =E80-H80 -> 61892600 | J80: 신규업체(2025.6.26.)
A81: 76 | B81: 아오라파트너스(유) | C81: 18 | D81: 344163675 | E81: =D81/C81 -> 19120204 | F81: 172 | G81: 2257251141 | H81: 13123553 | I81: =E81-H81 -> 5996651 | J81: 바이디자인코리아 유한회사→제이브이글로벌 유한회사 (2023.07.10)→한국프라이프 유한회사 (2025.09.25)→아오라 파트너스 유한회사 (2025.12.01)
A82: 77 | B82: ㈜더하나인 | C82: 4 | D82: 202552350 | E82: =D82/C82 -> 50638088 | F82: 3 | G82: 137099510 | H82: =G82/F82 -> 45699837 | I82: =E82-H82 -> 4938250.8
A83: 78 | B83: ㈜리퍼럴링크 | C83: 6 | D83: 149449027 | E83: =D83/C83 -> 24908171 | F83: 10 | G83: 241690358 | H83: =G83/F83 -> 24169036 | I83: =E83-H83 -> 739135.37 | J83: 퀀텀코스메틱→리퍼럴링크(2024.7.25)
A84: 79 | B84: 비즈월드코리아㈜ | C84: 3 | D84: 203346337 | E84: =D84/C84 -> 67782112 | F84: 4 | G84: 309397002 | H84: =G84/F84 -> 77349250 | I84: =E84-H84 -> -9567138.2
A85: 80 | B85: ㈜에이스원글로벌 | C85: 5 | D85: 113396562 | E85: =D85/C85 -> 22679312 | F85: 4 | G85: 173229236 | H85: =G85/F85 -> 43307309 | I85: =E85-H85 -> -20627997
A86: 81 | B86: ㈜미드밀 | C86: 54 | D86: 128418999 | E86: =D86/C86 -> 2378129.6 | F86: 14 | G86: 6366472 | H86: =G86/F86 -> 454748 | I86: =E86-H86 -> 1923381.6
A87: 82 | B87: (유)엑스인듀어런스코리아 | C87: 2 | D87: 129307530 | E87: =D87/C87 -> 64653765 | F87: 7 | G87: 208160222 | H87: =G87/F87 -> 29737175 | I87: =E87-H87 -> 34916590
A88: 83 | B88: ㈜바라글로벌 | C88: 1 | D88: 9211196 | E88: =D88/C88 -> 9211196 | F88: 0 | G88: 0 | H88: 0 | I88: =E88-H88 -> 9211196
A89: 84 | B89: 엘알헬스앤뷰티(유) | C89: 4 | D89: 137556698 | E89: =D89/C89 -> 34389174 | F89: 3 | G89: 140195049 | H89: =G89/F89 -> 46731683 | I89: =E89-H89 -> -12342508
A90: 85 | B90: 포에버코리아(유) | C90: 3 | D90: 97308320 | E90: =D90/C90 -> 32436107 | F90: 5 | G90: 87100294 | H90: =G90/F90 -> 17420059 | I90: =E90-H90 -> 15016048
A91: 86 | B91: ㈜지티비코리아 | C91: 2 | D91: 102648820 | E91: =D91/C91 -> 51324410 | F91: 11 | G91: 533839330 | H91: =G91/F91 -> 48530848 | I91: =E91-H91 -> 2793561.8 | J91: 큐탑바이오 주식회사→주식회사 지티비코리아 (2023.4.19.)
A92: 87 | B92: 뉴이미지헬스사이언스코리아(유) | C92: 7 | D92: 170326800 | E92: =D92/C92 -> 24332400 | F92: 0 | G92: 0 | H92: 0 | I92: =E92-H92 -> 24332400
A93: 88 | B93: ㈜테라스타 | C93: 2 | D93: 64476964 | E93: =D93/C93 -> 32238482 | F93: 0 | G93: 0 | H93: 0 | I93: =E93-H93 -> 32238482 | J93: 주식회사 에이쓰리글로벌 → 주식회사 테라스타(Terrastar co.,Ltd)(2023.12.7.)
A94: 89 | B94: 뉴키㈜ | C94: 2 | D94: 70699930 | E94: =D94/C94 -> 35349965 | F94: 3 | G94: 108254335 | H94: =G94/F94 -> 36084778 | I94: =E94-H94 -> -734813.33
A95: 90 | B95: ㈜이레뷰티호텔 | C95: 2 | D95: 35207270 | E95: =D95/C95 -> 17603635 | F95: 4 | G95: 108697789 | H95: =G95/F95 -> 27174447 | I95: =E95-H95 -> -9570812.2
A96: 91 | B96: ㈜파이메타 | C96: 1 | D96: 34500410 | E96: =D96/C96 -> 34500410 | F96: 0 | G96: 0 | H96: 0 | I96: =E96-H96 -> 34500410 | J96: (주)메타웰코리아 → (주)파이메타(2025.2.4.)
A97: 92 | B97: 아이야유니온㈜ | C97: 1 | D97: 44797743 | E97: 0 | F97: 6 | G97: 265076723 | H97: =G97/F97 -> 44179454 | I97: =E97-H97 -> -44179454 | J97: 엘에스피플(주)→아이야펫(주)(2023.8.3.변경) → 아이야유니온(주) (2024.1.3.)
A98: 93 | B98: ㈜지씨엔코리아 | C98: 0 | D98: 0 | E98: 0 | F98: 0 | G98: 0 | H98: 0 | I98: =E98-H98 -> 0 | J98: ㈜엔코네트 → ㈜지씨엔코리아(2025.1.13.)
A99: 94 | B99: 엔지엔㈜ | C99: 3 | D99: 60702872 | E99: =D99/C99 -> 20234291 | F99: 0 | G99: 0 | H99: 0 | I99: =E99-H99 -> 20234291
A100: 95 | B100: ㈜바잘 | C100: 2 | D100: 43871102 | E100: 0 | F100: 3 | G100: 69906654 | H100: =G100/F100 -> 23302218 | I100: =E100-H100 -> -23302218 | J100: (주)올네이처(2024.12.31)→(주)바잘(2025.1.1)
A101: 96 | B101: ㈜아이엠글로벌넷 | C101: 1 | D101: 10335350 | E101: 0 | F101: 3 | G101: 153390073 | H101: =G101/F101 -> 51130024 | I101: =E101-H101 -> -51130024 | J101: (주)메디어스코리아→(주)아이엠글로벌넷(2024.3.13)
...

Sheet (별첨5) 등록 판매원과 후원수당 수령 판매원 현황
A1: <붙임 5>
A2: 2025년 등록 판매원과 후원수당 수령 판매원 현황
H3: (단위: 명)
A4: 회 사 명 | C4: 2025년 | E4: 2024년 | G4: 비 고(증감) | I4: 비고
C5: 등록 | D5: 수령 | E5: 등록 | F5: 수령 | G5: 등록 | H5: 수령
A6: 1 | B6: 한국암웨이㈜ | C6: 792044 | D6: 304019 | E6: 840105 | F6: 323869 | G6: =C6-E6 -> -48061 | H6: =D6-F6 -> -19850
A7: 2 | B7: 애터미㈜ | C7: 2734939 | D7: 318808 | E7: 2839800 | F7: 336513 | G7: =C7-E7 -> -104861 | H7: =D7-F7 -> -17705
A8: 3 | B8: 피엠인터내셔널코리아(유) | C8: 1019250 | D8: 112094 | E8: 907044 | F8: 118152 | G8: =C8-E8 -> 112206 | H8: =D8-F8 -> -6058
A9: 4 | B9: 유니시티코리아(유) | C9: 95679 | D9: 51889 | E9: 102405 | F9: 58270 | G9: =C9-E9 -> -6726 | H9: =D9-F9 -> -6381
A10: 5 | B10: 뉴스킨코리아㈜ | C10: 23665 | D10: 23434 | E10: 107621 | F10: 31439 | G10: =C10-E10 -> -83956 | H10: =D10-F10 -> -8005
A11: 6 | B11: ㈜리만코리아 | C11: 72667 | D11: 38934 | E11: 0 | F11: 0 | G11: =C11-E11 -> 72667 | H11: =D11-F11 -> 38934 | I11: 24.11.17. 다단계판매업 등록하였으며, 그 이전에는 후원방문판매업자로 등록
A12: 7 | B12: 한국허벌라이프㈜ | C12: 86726 | D12: 25081 | E12: 67770 | F12: 24961 | G12: =C12-E12 -> 18956 | H12: =D12-F12 -> 120
A13: 8 | B13: 유사나헬스사이언스코리아(유) | C13: 188796 | D13: 10345 | E13: 217914 | F13: 11597 | G13: =C13-E13 -> -29118 | H13: =D13-F13 -> -1252
A14: 9 | B14: ㈜비아블 | C14: 56117 | D14: 16902 | E14: 53742 | F14: 15121 | G14: =C14-E14 -> 2375 | H14: =D14-F14 -> 1781
A15: 10 | B15: ㈜카리스 | C15: 17459 | D15: 2585 | E15: 19796 | F15: 3303 | G15: =C15-E15 -> -2337 | H15: =D15-F15 -> -718
A16: 11 | B16: 시너지월드와이드코리아㈜ | C16: 53678 | D16: 8513 | E16: 44440 | F16: 8988 | G16: =C16-E16 -> 9238 | H16: =D16-F16 -> -475
A17: 12 | B17: (유)매나테크코리아 | C17: 32734 | D17: 5318 | E17: 45362 | F17: 6301 | G17: =C17-E17 -> -12628 | H17: =D17-F17 -> -983
A18: 13 | B18: ㈜앤알커뮤니케이션 | C18: 349372 | D18: 10056 | E18: 339578 | F18: 9916 | G18: =C18-E18 -> 9794 | H18: =D18-F18 -> 140
A19: 14 | B19: 도테라코리아(유) | C19: 43348 | D19: 7076 | E19: 42515 | F19: 9451 | G19: =C19-E19 -> 833 | H19: =D19-F19 -> -2375
A20: 15 | B20: 라라코리아인터내셔날㈜ | C20: 113871 | D20: 11091 | E20: 98064 | F20: 13191 | G20: =C20-E20 -> 15807 | H20: =D20-F20 -> -2100
A21: 16 | B21: ㈜하이리빙 | C21: 27178 | D21: 11353 | E21: 28678 | F21: 21007 | G21: =C21-E21 -> -1500 | H21: =D21-F21 -> -9654
A22: 17 | B22: ㈜엔잭타 | C22: 16533 | D22: 4220 | E22: 13750 | F22: 4367 | G22: =C22-E22 -> 2783 | H22: =D22-F22 -> -147
A23: 18 | B23: ㈜굿모닝월드 | C23: 49053 | D23: 5406 | E23: 47586 | F23: 5708 | G23: =C23-E23 -> 1467 | H23: =D23-F23 -> -302
... A25: 20 | B25: (유)포라이프리서치코리아 | C25: 27428 | D25: 3734 | E25: 19694 | F25: 3824 | G25: =C25-E25 -> 7734 | H25: =D25-F25 -> -90
A26: 21 | B26: ㈜해밀리헬스 | C26: 21176 | D26: 7254 | E26: 26191 | F26: 4171 | G26: =C26-E26 -> -5015 | H26: =D26-F26 -> 3083 | I26: 주식회사 이롬플러스 → 주식회사 이롬헬스케어(2025.1.15.) → 주식회사 라이프밀(2025.12.23.) → 주식회사 해밀리헬스(2026.2.9.)
A27: 22 | B27: 니오라코리아(유) | C27: 8101 | D27: 2731 | E27: 5900 | F27: 4729 | G27: =C27-E27 -> 2201 | H27: =D27-F27 -> -1998 | I27: 에이씨앤코리아 유한회사→니오라코리아 유한회사(2025.1.2.)
A28: 23 | B28: ㈜인큐텐 | C28: 10377 | D28: 5435 | E28: 13357 | F28: 7586 | G28: =C28-E28 -> -2980 | H28: =D28-F28 -> -2151
A29: 24 | B29: 앨트웰㈜ | C29: 27072 | D29: 2885 | E29: 25952 | F29: 3397 | G29: =C29-E29 -> 1120 | H29: =D29-F29 -> -512
A30: 25 | B30: ㈜프리즘인터내셔널 | C30: 7045 | D30: 1290 | E30: 6768 | F30: 1565 | G30: =C30-E30 -> 277 | H30: =D30-F30 -> -275
A31: 26 | B31: 멜라루카인터내셔날코리아㈜ | C31: 9522 | D31: 4058 | E31: 9754 | F31: 3408 | G31: =C31-E31 -> -232 | H31: =D31-F31 -> 650
A32: 27 | B32: 썬라이더다이렉트코리아(유) | C32: 9891 | D32: 2111 | E32: 8577 | F32: 2564 | G32: =C32-E32 -> 1314 | H32: =D32-F32 -> -453
A33: 28 | B33: ㈜투에버 | C33: 30399 | D33: 1432 | E33: 32398 | F33: 2712 | G33: =C33-E33 -> -1999 | H33: =D33-F33 -> -1280
A34: 29 | B34: ㈜교원헬스케어 | C34: 103489 | D34: 3922 | E34: 92319 | F34: 4714 | G34: =C34-E34 -> 11170 | H34: =D34-F34 -> -792 | I34: (주)교원더오름 → (주)교원헬스케어(2024.4.21.)
A35: 30 | B35: 힐리월드코리아㈜ | C35: 15730 | D35: 1606 | E35: 13551 | F35: 1728 | G35: =C35-E35 -> 2179 | H35: =D35-F35 -> -122
A36: 31 | B36: 뉴유라이프코리아(유) | C36: 34025 | D36: 2034 | E36: 24444 | F36: 2243 | G36: =C36-E36 -> 9581 | H36: =D36-F36 -> -209
A37: 32 | B37: ㈜지에스엘 | C37: 11288 | D37: 3283 | E37: 11630 | F37: 4227 | G37: =C37-E37 -> -342 | H37: =D37-F37 -> -944
A38: 33 | B38: ㈜댄다코리아 | C38: 25112 | D38: 8297 | E38: 0 | F38: 0 | G38: =C38-E38 -> 25112 | H38: =D38-F38 -> 8297 | I38: 신규업체(2025.3.20.)
A39: 34 | B39: 경성제약㈜ | C39: 9778 | D39: 3708 | E39: 8454 | F39: 3246 | G39: =C39-E39 -> 1324 | H39: =D39-F39 -> 462
A40: 35 | B40: 토탈스위스코리아㈜ | C40: 38495 | D40: 1686 | E40: 38009 | F40: 2537 | G40: =C40-E40 -> 486 | H40: =D40-F40 -> -851
A41: 36 | B41: ㈜더클라세움 | C41: 16563 | D41: 5327 | E41: 0 | F41: 0 | G41: =C41-E41 -> 16563 | H41: =D41-F41 -> 5327 | I41: 신규업체(2025.3.21.)
A42: 37 | B42: 라이프웨이브코리아㈜ | C42: 35980 | D42: 2390 | E42: 42342 | F42: 7634 | G42: =C42-E42 -> -6362 | H42: =D42-F42 -> -5244
A43: 38 | B43: ㈜퍼스트코리아 | C43: 5408 | D43: 1023 | E43: 6913 | F43: 1076 | G43: =C43-E43 -> -1505 | H43: =D43-F43 -> -53
A44: 39 | B44: ㈜더우리샵 | C44: 25671 | D44: 7122 | E44: 18219 | F44: 5441 | G44: =C44-E44 -> 7452 | H44: =D44-F44 -> 1681
A45: 40 | B45: 엔티에이치인터내셔널㈜ | C45: 33994 | D45: 2329 | E45: 36087 | F45: 2563 | G45: =C45-E45 -> -2093 | H45: =D45-F45 -> -234
A46: 41 | B46: 지쿱㈜ | C46: 19057 | D46: 3648 | E46: 20509 | F46: 6010 | G46: =C46-E46 -> -1452 | H46: =D46-F46 -> -2362
A47: 42 | B47: ㈜리브퓨어코리아 | C47: 15746 | D47: 848 | E47: 13311 | F47: 711 | G47: =C47-E47 -> 2435 | H47: =D47-F47 -> 137
A48: 43 | B48: ㈜루비셀 | C48: 44219 | D48: 2838 | E48: 42404 | F48: 3374 | G48: =C48-E48 -> 1815 | H48: =D48-F48 -> -536 | I48: (주)아프로존 → (주)루비셀 (2024.6.13.)
A49: 44 | B49: ㈜웰런스 | C49: 3992 | D49: 1546 | E49: 3631 | F49: 1267 | G49: =C49-E49 -> 361 | H49: =D49-F49 -> 279
A50: 45 | B50: ㈜좋은효소 | C50: 20283 | D50: 372 | E50: 19735 | F50: 538 | G50: =C50-E50 -> 548 | H50: =D50-F50 -> -166
A51: 46 | B51: ㈜피앤피글로벌 | C51: 13729 | D51: 1017 | E51: 7957 | F51: 1028 | G51: =C51-E51 -> 5772 | H51: =D51-F51 -> -11
A52: 47 | B52: 이젤피아㈜ | C52: 24615 | D52: 1861 | E52: 19241 | F52: 1630 | G52: =C52-E52 -> 5374 | H52: =D52-F52 -> 231 | I52: (주)키토윈 → (주) 이젤피아(2024.1.11) → 이젤피아(주)(2024.1.18.)
A53: 48 | B53: 와인코리아㈜ | C53: 16635 | D53: 1993 | E53: 8791 | F53: 1882 | G53: =C53-E53 -> 7844 | H53: =D53-F53 -> 111
A54: 49 | B54: ㈜제이온 | C54: 22100 | D54: 2602 | E54: 19221 | F54: 1764 | G54: =C54-E54 -> 2879 | H54: =D54-F54 -> 838
A55: 50 | B55: ㈜유니앤코어 | C55: 2666 | D55: 1776 | E55: 16943 | F55: 3223 | G55: =C55-E55 -> -14277 | H55: =D55-F55 -> -1447
A56: 51 | B56: 영리빙코리아(유) | C56: 5160 | D56: 1633 | E56: 5041 | F56: 1373 | G56: =C56-E56 -> 119 | H56: =D56-F56 -> 260
A57: 52 | B57: ㈜더올가 | C57: 1084 | D57: 759 | E57: 1068 | F57: 775 | G57: =C57-E57 -> 16 | H57: =D57-F57 -> -16
A58: 53 | B58: ㈜캘러리코리아 | C58: 10375 | D58: 1333 | E58: 8316 | F58: 3637 | G58: =C58-E58 -> 2059 | H58: =D58-F58 -> -2304
A59: 54 | B59: ㈜매니스 | C59: 20629 | D59: 1583 | E59: 17426 | F59: 1781 | G59: =C59-E59 -> 3203 | H59: =D59-F59 -> -198
A60: 55 | B60: ㈜코타파 | C60: 1483 | D60: 231 | E60: 1282 | F60: 311 | G60: =C60-E60 -> 201 | H60: =D60-F60 -> -80
A61: 56 | B61: ㈜팍스리테일 | C61: 13829 | D61: 2706 | E61: 0 | F61: 0 | G61: =C61-E61 -> 13829 | H61: =D61-F61 -> 2706 | I61: 신규업체(2025.3.18.)
A62: 57 | B62: ㈜젬마코리아 | C62: 105558 | D62: 2792 | E62: 104345 | F62: 3651 | G62: =C62-E62 -> 1213 | H62: =D62-F62 -> -859
A63: 58 | B63: 하담스㈜ | C63: 4405 | D63: 576 | E63: 0 | F63: 0 | G63: =C63-E63 -> 4405 | H63: =D63-F63 -> 576 | I63: 신규업체(2024.12.11)
A64: 59 | B64: ㈜미젤 | C64: 1694 | D64: 255 | E64: 1453 | F64: 288 | G64: =C64-E64 -> 241 | H64: =D64-F64 -> -33
A65: 60 | B65: 아마레코리아㈜ | C65: 20555 | D65: 472 | E65: 19051 | F65: 1178 | G65: =C65-E65 -> 1504 | H65: =D65-F65 -> -706 | I65: 카야니코리아 주식회사 → 아마레코리아 주식회사(2023.12.19.)
A66: 61 | B66: ㈜봄코리아 | C66: 34259 | D66: 2399 | E66: 32536 | F66: 3621 | G66: =C66-E66 -> 1723 | H66: =D66-F66 -> -1222
A67: 62 | B67: ㈜에이치엘글로벌 | C67: 7090 | D67: 1413 | E67: 1086 | F67: 333 | G67: =C67-E67 -> 6004 | H67: =D67-F67 -> 1080
A68: 63 | B68: ㈜디얼라이언스 | C68: 5218 | D68: 2228 | E68: 15197 | F68: 3200 | G68: =C68-E68 -> -9979 | H68: =D68-F68 -> -972 | I68: ㈜우리커머스-->㈜디얼라이언스 (2024.9.19.)
A69: 64 | B69: ㈜씨엔뷰(CNView) | C69: 2251 | D69: 1094 | E69: 7559 | F69: 1360 | G69: =C69-E69 -> -5308 | H69: =D69-F69 -> -266
A70: 65 | B70: 파트너코코리아(유) | C70: 4734 | D70: 498 | E70: 3788 | F70: 496 | G70: =C70-E70 -> 946 | H70: =D70-F70 -> 2 | I70: 한국모린다유한회사 → 파트너코코리아유한회사(2023.11.20.)
A71: 66 | B71: ㈜오너 | C71: 4217 | D71: 620 | E71: 1702 | F71: 483 | G71: =C71-E71 -> 2515 | H71: =D71-F71 -> 137
A72: 67 | B72: 트루비코리아(유) | C72: 688 | D72: 501 | E72: 2192 | F72: 889 | G72: =C72-E72 -> -1504 | H72: =D72-F72 -> -388 | I72: 트루비코리아유한회사→진지노코리아유한회사 (2026.5.11.)
A73: 68 | B73: ㈜셀플렉스 | C73: 9448 | D73: 989 | E73: 1508 | F73: 727 | G73: =C73-E73 -> 7940 | H73: =D73-F73 -> 262 | I73: ㈜셀플렉스코리아→㈜셀플렉스 (2023.10.5.)
A74: 69 | B74: ㈜에스엔비아이 | C74: 4046 | D74: 1209 | E74: 3397 | F74: 1904 | G74: =C74-E74 -> 649 | H74: =D74-F74 -> -695
A75: 70 | B75: 고려한백㈜ | C75: 47310 | D75: 1020 | E75: 46850 | F75: 964 | G75: =C75-E75 -> 460 | H75: =D75-F75 -> 56
A76: 71 | B76: ㈜메타이십일글로벌 | C76: 1465 | D76: 419 | E76: 0 | F76: 0 | G76: =C76-E76 -> 1465 | H76: =D76-F76 -> 419 | I76: 신규업체(2024.9.6.)
A77: 72 | B77: ㈜루카스앤에스 | C77: 4930 | D77: 533 | E77: 5007 | F77: 461 | G77: =C77-E77 -> -77 | H77: =D77-F77 -> 72
A78: 73 | B78: 메사얼라이언스그룹㈜ | C78: 365 | D78: 365 | E78: 1424 | F78: 683 | G78: =C78-E78 -> -1059 | H78: =D78-F78 -> -318
A79: 74 | B79: ㈜그린피아코스메틱 | C79: 6803 | D79: 1445 | E79: 6790 | F79: 1450 | G79: =C79-E79 -> 13 | H79: =D79-F79 -> -5
A80: 75 | B80: ㈜엘바이오랩스 | C80: 3017 | D80: 229 | E80: 0 | F80: 0 | G80: =C80-E80 -> 3017 | H80: =D80-F80 -> 229 | I80: 신규업체(2025.6.26.)
A81: 76 | B81: 아오라파트너스(유) | C81: 3338 | D81: 1803 | E81: 28205 | F81: 17266 | G81: =C81-E81 -> -24867 | H81: =D81-F81 -> -15463 | I81: 바이디자인코리아 유한회사→제이브이글로벌 유한회사 (2023.07.10)→한국프라이프 유한회사 (2025.09.25)→아오라 파트너스 유한회사 (2025.12.01)
A82: 77 | B82: ㈜더하나인 | C82: 3214 | D82: 448 | E82: 1954 | F82: 365 | G82: =C82-E82 -> 1260 | H82: =D82-F82 -> 83
A83: 78 | B83: ㈜리퍼럴링크 | C83: 4950 | D83: 633 | E83: 4459 | F83: 1049 | G83: =C83-E83 -> 491 | H83: =D83-F83 -> -416 | I83: 퀀텀코스메틱→리퍼럴링크(2024.7.25)
A84: 79 | B84: 비즈월드코리아㈜ | C84: 8473 | D84: 358 | E84: 7853 | F84: 414 | G84: =C84-E84 -> 620 | H84: =D84-F84 -> -56
A85: 80 | B85: ㈜에이스원글로벌 | C85: 10318 | D85: 504 | E85: 6744 | F85: 486 | G85: =C85-E85 -> 3574 | H85: =D85-F85 -> 18
A86: 81 | B86: ㈜미드밀 | C86: 50674 | D86: 5483 | E86: 12039 | F86: 1562 | G86: =C86-E86 -> 38635 | H86: =D86-F86 -> 3921
A87: 82 | B87: (유)엑스인듀어런스코리아 | C87: 1186 | D87: 264 | E87: 2080 | F87: 755 | G87: =C87-E87 -> -894 | H87: =D87-F87 -> -491
A88: 83 | B88: ㈜바라글로벌 | C88: 13230 | D88: 188 | E88: 12813 | F88: 64 | G88: =C88-E88 -> 417 | H88: =D88-F88 -> 124
A89: 84 | B89: 엘알헬스앤뷰티(유) | C89: 1161 | D89: 415 | E89: 665 | F89: 355 | G89: =C89-E89 -> 496 | H89: =D89-F89 -> 60
A90: 85 | B90: 포에버코리아(유) | C90: 1203 | D90: 332 | E90: 9491 | F90: 517 | G90: =C90-E90 -> -8288 | H90: =D90-F90 -> -185
A91: 86 | B91: ㈜지티비코리아 | C91: 5741 | D91: 208 | E91: 5388 | F91: 1130 | G91: =C91-E91 -> 353 | H91: =D91-F91 -> -922 | I91: 큐탑바이오 주식회사→주식회사 지티비코리아 (2023.4.19.)
A92: 87 | B92: 뉴이미지헬스사이언스코리아(유) | C92: 1695 | D92: 703 | E92: 283 | F92: 49 | G92: =C92-E92 -> 1412 | H92: =D92-F92 -> 654
A93: 88 | B93: ㈜테라스타 | C93: 1667 | D93: 250 | E93: 1598 | F93: 98 | G93: =C93-E93 -> 69 | H93: =D93-F93 -> 152 | I93: 주식회사 에이쓰리글로벌 → 주식회사 테라스타(Terrastar co.,Ltd)(2023.12.7.)
A94: 89 | B94: 뉴키㈜ | C94: 4268 | D94: 246 | E94: 4245 | F94: 307 | G94: =C94-E94 -> 23 | H94: =D94-F94 -> -61
A95: 90 | B95: ㈜이레뷰티호텔 | C95: 561 | D95: 263 | E95: 517 | F95: 508 | G95: =C95-E95 -> 44 | H95: =D95-F95 -> -245
A96: 91 | B96: ㈜파이메타 | C96: 940 | D96: 219 | E96: 12 | F96: 2 | G96: =C96-E96 -> 928 | H96: =D96-F96 -> 217 | I96: (주)메타웰코리아 → (주)파이메타(2025.2.4.)
A97: 92 | B97: 아이야유니온㈜ | C97: 18014 | D97: 150 | E97: 16592 | F97: 622 | G97: =C97-E97 -> 1422 | H97: =D97-F97 -> -472 | I97: 엘에스피플(주)→아이야펫(주)(2023.8.3.변경) → 아이야유니온(주) (2024.1.3.)
A98: 93 | B98: ㈜지씨엔코리아 | C98: 363 | D98: 80 | E98: 367 | F98: 92 | G98: =C98-E98 -> -4 | H98: =D98-F98 -> -12 | I98: ㈜엔코네트 → ㈜지씨엔코리아(2025.1.13.)
A99: 94 | B99: 엔지엔㈜ | C99: 1749 | D99: 333 | E99: 438 | F99: 45 | G99: =C99-E99 -> 1311 | H99: =D99-F99 -> 288
A100: 95 | B100: ㈜바잘 | C100: 2822 | D100: 230 | E100: 2082 | F100: 254 | G100: =C100-E100 -> 740 | H100: =D100-F100 -> -24 | I100: (주)올네이처(2024.12.31)→(주)바잘(2025.1.1)
A101: 96 | B101: ㈜아이엠글로벌넷 | C101: 450 | D101: 148 | E101: 1313 | F101: 364 | G101: =C101-E101 -> -863 | H101: =D101-F101 -> -216 | I101: (주)메디어스코리아→(주)아이엠글로벌넷(2024.3.13)
...

Sheet (별첨6) 후원수당 수령 판매원의 평균 수령액
A1: <붙임 6>
A2: 2025년 후원수당 수령 판매원의 평균 수령액
I3: (단위: 명, 원)
A4: 회 사 명 | C4: 2025년 | F4: 2024년 | I4: 평균수령액 증감
C5: 수령총액 | D5: 수령판매원수 | E5: 수령1인당평균수령액 | F5: 수령총액 | G5: 수령판매원수 | H5: 1인당평균수령액
A6: 1 | B6: 한국암웨이㈜ | C6: 365296191632 | D6: 304019 | E6: 1201557.1 | F6: 376047198295 | G6: 323869 | H6: 1161109 | I6: =E6-H6 -> 40448.15
A7: 2 | B7: 애터미㈜ | C7: 276474050900 | D7: 318808 | E7: 867211.77 | F7: 299093837853 | G7: 336513 | H7: 888803.22 | I7: =E7-H7 -> -21591.447
A8: 3 | B8: 피엠인터내셔널코리아(유) | C8: 171389374232 | D8: 112094 | E8: 1528979 | F8: 178111060003 | G8: 118152 | H8: 1507473.9 | I8: =E8-H8 -> 21505.088
A9: 4 | B9: 유니시티코리아(유) | C9: 67394102995 | D9: 51889 | E9: 1298812.9 | F9: 75274620864 | G9: 58270 | H9: 1291824.6 | I9: =E9-H9 -> 6988.2838
A10: 5 | B10: 뉴스킨코리아㈜ | C10: 70932898310 | D10: 23434 | E10: 3026922.3 | F10: 82398123496 | G10: 31439 | H10: 2620888.8 | I10: =E10-H10 -> 406033.53
A11: 6 | B11: ㈜리만코리아 | C11: 68669210370 | D11: 38934 | E11: 1763733.8 | F11: 0 | G11: 0 | H11: 0 | I11: =E11-H11 -> 1763733.8
A12: 7 | B12: 한국허벌라이프㈜ | C12: 59960607598 | D12: 25081 | E12: 2390678.5 | F12: 63550037705 | G12: 24961 | H12: 2545973.2 | I12: =E12-H12 -> -155294.72
A13: 8 | B13: 유사나헬스사이언스코리아(유) | C13: 37366493915 | D13: 10345 | E13: 3612034.2 | F13: 39584677321 | G13: 11597 | H13: 3413354.9 | I13: =E13-H13 -> 198679.26
A14: 9 | B14: ㈜비아블 | C14: 31648246777 | D14: 16902 | E14: 1872455.7 | F14: 27244609491 | G14: 15121 | H14: 1801773 | I14: =E14-H14 -> 70682.734
A15: 10 | B15: ㈜카리스 | C15: 30053282597 | D15: 2585 | E15: 11626028 | F15: 24164447380 | G15: 3303 | H15: 7315909 | I15: =E15-H15 -> 4310119.1
A16: 11 | B16: 시너지월드와이드코리아㈜ | C16: 21442917728 | D16: 8513 | E16: 2518843.9 | F16: 21315838783 | G16: 8988 | H16: 2371588.6 | I16: =E16-H16 -> 147255.2
A17: 12 | B17: 유한책임회사매나테크코리아 | C17: 23109783354 | D17: 5318 | E17: 4345577.9 | F17: 24441535942 | G17: 6301 | H17: 3878993.2 | I17: =E17-H17 -> 466584.75
... A125: 120 | B125: ㈜씨에이치다이렉트 | C125: 0 | D125: 0 | E125: 0 | F125: 382976267 | G125: 342 | H125: 1119813.6 | I125: =E125-H125 -> -1119813.6
A126: 합계 | C126: =SUM(C6:C125) -> 1511549899396 | D126: =SUM(D6:D125) -> 1103509 | E126: =ROUND(C126/D126,0) -> 1369767 | F126: =SUM(F6:F125) -> 1509931311170 | G126: =SUM(G6:G125) -> 1156733 | H126: =ROUND(F126/G126,0) -> 1305341

Sheet (별첨7) 후원수당 금액수준별 지급분포도
A1: <붙임 7>
A2: 2025년 후원수당 금액 수준별 지급분포도
L3: (단위: 명)
A4: 순번 | B4: 회 사 명 | C4: 1억원 이상 후원수당 지급한 판매원수 | D4: 1억원 미만~5천만원 이상 후원수당 지급한 판매원수 | E4: 5천만원 미만~3천만원 이상 후원수당 지급한 판매원수 | F4: 3천만원 미만~2천만원 이상 후원수당 지급한 판매원수 | G4: 2천만원 미만~1천만원 이상 후원수당 지급한 판매원수 | H4: 1천만원 미만~500만원 이상 후원수당 지급한 판매원수 | I4: 500만원 미만~100만원 이상 후원수당 지급한 판매원수 | J4: 100만원 미만~50만원 이상 후원수당 지급한 판매원수 | K4: 50만원 미만~0원 초과 후원수당 지급한 판매원수 | L4: 후원수당 지급액 없는 판매원 수
A5: 1 | B5: 한국암웨이㈜ | C5: 384 | D5: 925 | E5: 1765 | F5: 978 | G5: 1925 | H5: 3484 | I5: 16844 | J5: 14452 | K5: 263262 | L5: 488025
A6: 2 | B6: 애터미㈜ | C6: 321 | D6: 435 | E6: 682 | F6: 862 | G6: 1696 | H6: 2379 | I6: 15851 | J6: 16246 | K6: 280336 | L6: 2416131
A7: 3 | B7: 피엠인터내셔널코리아(유) | C7: 197 | D7: 269 | E7: 349 | F7: 588 | G7: 1274 | H7: 2058 | I7: 15259 | J7: 11042 | K7: 81058 | L7: 907156
A8: 4 | B8: 유니시티코리아(유) | C8: 70 | D8: 127 | E8: 213 | F8: 268 | G8: 643 | H8: 1106 | I8: 3990 | J8: 2937 | K8: 42535 | L8: 43790
A9: 5 | B9: 뉴스킨코리아㈜ | C9: 109 | D9: 159 | E9: 204 | F9: 244 | G9: 599 | H9: 717 | I9: 2509 | J9: 1877 | K9: 17016 | L9: 231
A10: 6 | B10: ㈜리만코리아 | C10: 84 | D10: 99 | E10: 127 | F10: 174 | G10: 496 | H10: 958 | I10: 4489 | J10: 5339 | K10: 27168 | L10: 33733
A11: 7 | B11: 한국허벌라이프㈜ | C11: 77 | D11: 138 | E11: 107 | F11: 148 | G11: 355 | H11: 467 | I11: 2799 | J11: 3153 | K11: 17837 | L11: 61645
A12: 8 | B12: 유사나헬스사이언스코리아(유) | C12: 54 | D12: 55 | E12: 90 | F12: 94 | G12: 293 | H12: 459 | I12: 1945 | J12: 1222 | K12: 6133 | L12: 178451
A13: 9 | B13: ㈜비아블 | C13: 41 | D13: 51 | E13: 78 | F13: 78 | G13: 150 | H13: 339 | I13: 1858 | J13: 2008 | K13: 12299 | L13: 39215
A14: 10 | B14: ㈜카리스 | C14: 57 | D14: 61 | E14: 44 | F14: 39 | G14: 107 | H14: 129 | I14: 427 | J14: 311 | K14: 1410 | L14: 14874
A15: 11 | B15: 시너지월드와이드코리아㈜ | C15: 27 | D15: 30 | E15: 57 | F15: 70 | G15: 164 | H15: 262 | I15: 1185 | J15: 794 | K15: 5924 | L15: 45165
A16: 12 | B16: 유한책임회사매나테크코리아 | C16: 37 | D16: 43 | E16: 68 | F16: 71 | G16: 211 | H16: 245 | I16: 1178 | J16: 755 | K16: 2710 | L16: 27416
... A116: 112 | B116: ㈜스타비즈파트너스 | C116: 0 | D116: 0 | E116: 0 | F116: 0 | G116: 0 | H116: 0 | I116: 0 | J116: 1 | K116: 26 | L116: 545
A117: 합계 | C117: =SUM(C5:C116) -> 1784 | D117: =SUM(D5:D116) -> 2908 | E117: =SUM(E5:E116) -> 4561 | F117: =SUM(F5:F116) -> 4457 | G117: =SUM(G5:G116) -> 10467 | H117: =SUM(H5:H116) -> 16889 | I117: =SUM(I5:I116) -> 90811 | J117: =SUM(J5:J116) -> 75890 | ... L117: =SUM(L5:L116) -> 5845292

Sheet (별첨8) 상위 5개 매출품목
A1: <붙임 8>
A2: 2025년 업체별 상위 5개 매출품목 현황
A4: 회 사 명 | C4: 상위 1위 품목 | D4: 상위 2위 품목 | E4: 상위 3위 품목 | F4: 상위 4위 품목 | G4: 상위 5위 품목
A5: 1 | B5: 한국암웨이㈜ | C5: 이스프링 정수기 필터 카트리지 (생활용품) | D5: 밸런스 위드인 365 (건강식품) | E5: 뉴트리 파이토 푸로틴 (건강식품) | F5: 아세로라C (건강식품) | G5: 맨즈 에너지 팩 (건강식품)
A6: 2 | B6: 애터미㈜ | C6: 애터미헤모힘(건강식품) | D6: 애터미 앱솔루트 셀렉티브 스킨케어(화장품) | E6: 애터미 화장지 (생활용품) | F6: 애터미 스킨케어 시스템 더페임 (화장품) | G6: 애터미 친생유산균(건강식품)
A7: 3 | B7: 피엠인터내셔널코리아(유) | C7: 오토십(건강식품) | D7: 액션팩(건강식품) | E7: [5+1] 액티바이즈(건강식품) | F7: BA Special(건강식품) | G7: 액티바이즈(건강식품)
A8: 4 | B8: 유니시티코리아(유) | C8: 바이오스 라이프 C Plus (건강식품) | D8: 바이오스 라이프 E 에너지 (건강식품) | E8: 오메가 라이프3 120 리졸브 (건강식품) | F8: 클로로파워 (건강식품) | G8: 클리어 스타트 팩 플러스 (건강식품)
A9: 5 | B9: 뉴스킨코리아㈜ | C9: PX ageLOC (건강식품) | D9: TRME (건강식품) | E9: Tru Face (화장품) | F9: Face Care (화장품) | G9: PX Weight-loss (건강식품)
A10: 6 | B10: ㈜리만코리아 | C10: 더마톨로지 퍼스트 패키지 (화장품) | D10: 더마톨로지 크림 (화장품) | E10: 라이프닝 딥톡 플러스 (건강식품) | F10: 투페이스 오일 미스트 (화장품) | G10: 카밍 밸런스 젤 (화장품)
A11: 7 | B11: 한국허벌라이프㈜ | C11: 허벌 알로에 겔 망고 (건강식품) (건강식품) | D11: 면역튼튼 알로에겔 세트- 망고맛 (건강식품) | E11: 나이트웍스 비타민C, E, 엽산 (건강식품) (건강식품) | F11: 허벌 베버리지 (건강식품) (건강식품) | G11: 허벌라이브24 리빌드 스트랭쓰 (건강식품) (건강식품)
A12: 8 | B12: 유사나헬스사이언스코리아(유) | C12: 헬스팩 (건강식품) | D12: 프로바이오틱 (건강식품) | E12: 바이오메가 (건강식품) | F12: 프로후라바놀C300 (건강식품) | G12: 헤파실 (건강식품)
A13: 9 | B13: ㈜비아블 | C13: 셀비아 [A] 176 컬렉션 세트 (화장품) | D13: 셀비아 [B] 176 컬렉션 세트 (화장품) | E13: [한가위 프로모션] '한' 세트 (화장품) | F13: 셀비아 [C] 176 컬렉션 세트 (화장품) | G13: [가정의달 패키지1] 셀비아 [A] 176 컬렉션 세트 + 프리미엄 앰플 + 아름다운 키트 (화장품)
A14: 10 | B14: ㈜카리스 | C14: 미라클 다이아몬드 필 (화장품) | D14: 비타민C 3종 세트 (화장품) | E14: 얼티밋 스킨케어 컬렉션 10종 (화장품) | F14: 멀티 펩타이드 토너 (화장품) | G14: CPR 프로그램 세트 (화장품)
A15: 11 | B15: 시너지월드와이드코리아㈜ | C15: ProArgi-9 Plus_Rebranded (건강식품) | D15: PA-9+ PROGUARD (건강식품) | E15: Synerbeet (건강식품) | F15: SYNERGY MAXIMUM PROTEIN (건강식품) | G15: B-Prime (건강식품)
A16: 12 | B16: 유한책임회사매나테크코리아 | C16: 옵티멀 서포트 패킷 (건강식품) | D16: 앰브로토스 라이프 (건강식품) | E16: 트루퓨어 (건강식품) | F16: 지아이-프로밸런스 (건강식품) | G16: 오소린 (건강식품)
... A116: 112 | B116: ㈜스타비즈파트너스 | C116: 스타비즈패키지(화장품) | D116: 마이크로바이옴 솔루션(식품) | E116: 마이크로콘 트리트먼트 솔루션(화장품) | F116: 소프트필케어솔루션(화장품) | G116: 카라다 어렌지 나노 ECF 유산구균 과립 60조(식품)
